Workbook

Sheet Data
A1: F.4 Collection Expenditure As % Of Total Library
B2: ACAD | C2: Ambrose University | D2: BCIT | E2: Bow Valley College | F2: Burman University | G2: Concordia University College | H2: Grand Prairie Regional College | I2: Keyano College | J2: King's University | K2: Lakeland College | L2: MacEwan University | M2: Medicine Hat College | N2: Mount Royal University | O2: NAIT | P2: Norquest College | Q2: Northern Lakes College | R2: Olds College | S2: Paul D. Fleck Library & Archives, The Banff Centre | T2: Portage College | U2: Red Deer College | V2: Saint Mary's University College | W2: SAIT Polytechnic | X2: University of Alberta | Y2: University of Lethbridge | Z2: Vanguard College (Northwest Bible) | AA2: Average | AC2: FLE Below 1001 | AD2: =B2 -> ACAD | AE2: =C2 -> Ambrose University | AF2: =F2 -> Burman University | AG2: =J2 -> King's University | AH2: =S2 -> Paul D. Fleck Library & Archives, The Banff Centre | AI2: =T2 -> Portage College | AJ2: =V2 -> Saint Mary's University College | AK2: =Z2 -> Vanguard College (Northwest Bible) | AL2: Average | AN2: FLE 1001-2000 | AO2: =G2 -> Concordia University College | AP2: =H2 -> Grand Prairie Regional College | AQ2: =I2 -> Keyano College | AR2: =Q2 -> Northern Lakes College | AS2: =R2 -> Olds College | AT2: Average | AV2: FLE 2001-5000 | AW2: =K2 -> Lakeland College | AX2: =M2 -> Medicine Hat College | AY2: =P2 -> Norquest College | AZ2: =U2 -> Red Deer College | BA2: Average | BC2: FLE Above 5000 | BD2: =D2 -> BCIT | BE2: =E2 -> Bow Valley College | BF2: =L2 -> MacEwan University | BG2: =N2 -> Mount Royal University | BH2: =O2 -> NAIT | BI2: =W2 -> SAIT Polytechnic | BJ2: =X2 -> University of Alberta | BK2: =Y2 -> University of Lethbridge | BL2: Average
A3: 1999 2000 | B3: 0.1724204 | C3: N/A | D3: 0.22382793 | E3: N/A | F3: 0.2766766 | G3: N/A | H3: 0.17774815 | I3: 0.23398807 | J3: 0.33541266 | K3: N/A | L3: 0.17458815 | M3: 0.25161302 | N3: N/A | O3: 0.18160754 | P3: 0.24470564 | Q3: 0.24606235 | R3: N/A | S3: N/A | T3: 0.20629371 | U3: 0.28948334 | V3: N/A | W3: 0.23173382 | X3: N/A | Y3: N/A | Z3: N/A | AA3: =AVERAGE(B3:Z3) -> 0.23186867 | AC3: 1999 2000 | AD3: =B3 -> 0.1724204 | AE3: =C3 -> N/A | AF3: =F3 -> 0.2766766 | AG3: =J3 -> 0.33541266 | AH3: =S3 -> N/A | AI3: =T3 -> 0.20629371 | AJ3: =V3 -> N/A | AK3: =Z3 -> N/A | AL3: =AVERAGE(AD3:AK3) -> 0.24770084 | AN3: 1999 2000 | AO3: =G3 -> N/A | AP3: =H3 -> 0.17774815 | AQ3: =I3 -> 0.23398807 | AR3: =Q3 -> 0.24606235 | AS3: =R3 -> N/A | AT3: =AVERAGE(AO3:AS3) -> 0.21926619 | AV3: 1999 2000 | AW3: =K3 -> N/A | AX3: =M3 -> 0.25161302 | AY3: =P3 -> 0.24470564 | AZ3: =U3 -> 0.28948334 | BA3: =AVERAGE(AW3:AZ3) -> 0.261934 | BC3: 1999 2000 | BD3: =D3 -> 0.22382793 | BE3: =E3 -> N/A | BF3: =L3 -> 0.17458815 | BG3: =N3 -> N/A | BH3: =O3 -> 0.18160754 | BI3: =W3 -> 0.23173382 | BJ3: =X3 -> N/A | BK3: =Y3 -> N/A | BL3: =AVERAGE(BD3:BK3) -> 0.20293936
A4: 2000 2001 | B4: 0.14953178 | C4: 0.18147685 | D4: 0.22382793 | E4: N/A | F4: 0.3066679 | G4: N/A | H4: 0.15015395 | I4: 0.26064612 | J4: 0.38262561 | K4: 0.25663846 | L4: 0.16456584 | M4: 0.26361188 | N4: 0.31860037 | O4: 0.17955142 | P4: 0.16450816 | Q4: 0.25122673 | R4: N/A | S4: N/A | T4: 0.16358321 | U4: N/A | V4: N/A | W4: 0.22187495 | X4: N/A | Y4: N/A | Z4: N/A | AA4: =AVERAGE(B4:Z4) -> 0.2274432 | AC4: 2000 2001 | AD4: =B4 -> 0.14953178 | AE4: =C4 -> 0.18147685 | AF4: =F4 -> 0.3066679 | AG4: =J4 -> 0.38262561 | AH4: =S4 -> N/A | AI4: =T4 -> 0.16358321 | AJ4: =V4 -> N/A | AK4: =Z4 -> N/A | AL4: =AVERAGE(AD4:AK4) -> 0.23677707 | AN4: 2000 2001 | AO4: =G4 -> N/A | AP4: =H4 -> 0.15015395 | AQ4: =I4 -> 0.26064612 | AR4: =Q4 -> 0.25122673 | AS4: =R4 -> N/A | AT4: =AVERAGE(AO4:AS4) -> 0.2206756 | AV4: 2000 2001 | AW4: =K4 -> 0.25663846 | AX4: =M4 -> 0.26361188 | AY4: =P4 -> 0.16450816 | AZ4: =U4 -> N/A | BA4: =AVERAGE(AW4:AZ4) -> 0.22825283 | BC4: 2000 2001 | BD4: =D4 -> 0.22382793 | BE4: =E4 -> N/A | BF4: =L4 -> 0.16456584 | BG4: =N4 -> 0.31860037 | BH4: =O4 -> 0.17955142 | BI4: =W4 -> 0.22187495 | BJ4: =X4 -> N/A | BK4: =Y4 -> N/A | BL4: =AVERAGE(BD4:BK4) -> 0.2216841
A5: 2001 2002 | B5: 0.1712275 | C5: 0.1840796 | D5: 0.24327346 | E5: N/A | F5: 0.34374578 | G5: N/A | H5: 0.15049807 | I5: 0.3323745 | J5: 0.42389378 | K5: 0.25487267 | L5: 0.15413259 | M5: 0.24480891 | N5: 0.28137652 | O5: 0.2056285 | P5: 0.1534963 | Q5: 0.23991977 | R5: N/A | S5: N/A | T5: 0.17658054 | U5: 0.34250488 | V5: N/A | W5: 0.26482997 | X5: N/A | Y5: N/A | Z5: N/A | AA5: =AVERAGE(B5:Z5) -> 0.24513196 | AC5: 2001 2002 | AD5: =B5 -> 0.1712275 | AE5: =C5 -> 0.1840796 | AF5: =F5 -> 0.34374578 | AG5: =J5 -> 0.42389378 | AH5: =S5 -> N/A | AI5: =T5 -> 0.17658054 | AJ5: =V5 -> N/A | AK5: =Z5 -> N/A | AL5: =AVERAGE(AD5:AK5) -> 0.25990544 | AN5: 2001 2002 | AO5: =G5 -> N/A | AP5: =H5 -> 0.15049807 | AQ5: =I5 -> 0.3323745 | AR5: =Q5 -> 0.23991977 | AS5: =R5 -> N/A | AT5: =AVERAGE(AO5:AS5) -> 0.24093078 | AV5: 2001 2002 | AW5: =K5 -> 0.25487267 | AX5: =M5 -> 0.24480891 | AY5: =P5 -> 0.1534963 | AZ5: =U5 -> 0.34250488 | BA5: =AVERAGE(AW5:AZ5) -> 0.24892069 | BC5: 2001 2002 | BD5: =D5 -> 0.24327346 | BE5: =E5 -> N/A | BF5: =L5 -> 0.15413259 | BG5: =N5 -> 0.28137652 | BH5: =O5 -> 0.2056285 | BI5: =W5 -> 0.26482997 | BJ5: =X5 -> N/A | BK5: =Y5 -> N/A | BL5: =AVERAGE(BD5:BK5) -> 0.22984821
A6: 2002 2003 | B6: 0.18963166 | C6: 0.2734631 | D6: N/A | E6: N/A | F6: 0.37697317 | G6: N/A | H6: 0.14345028 | I6: 0.24493157 | J6: 0.41741891 | K6: 0.16078316 | L6: 0.16976482 | M6: 0.25022748 | N6: 0.26285011 | O6: 0.19922735 | P6: 0.16954697 | Q6: 0.20776589 | R6: N/A | S6: N/A | T6: 0.15974556 | U6: 0.31335033 | V6: N/A | W6: 0.28645459 | X6: N/A | Y6: N/A | Z6: N/A | AA6: =AVERAGE(B6:Z6) -> 0.23909906 | AC6: 2002 2003 | AD6: =B6 -> 0.18963166 | AE6: =C6 -> 0.2734631 | AF6: =F6 -> 0.37697317 | AG6: =J6 -> 0.41741891 | AH6: =S6 -> N/A | AI6: =T6 -> 0.15974556 | AJ6: =V6 -> N/A | AK6: =Z6 -> N/A | AL6: =AVERAGE(AD6:AK6) -> 0.28344648 | AN6: 2002 2003 | AO6: =G6 -> N/A | AP6: =H6 -> 0.14345028 | AQ6: =I6 -> 0.24493157 | AR6: =Q6 -> 0.20776589 | AS6: =R6 -> N/A | AT6: =AVERAGE(AO6:AS6) -> 0.19871591 | AV6: 2002 2003 | AW6: =K6 -> 0.16078316 | AX6: =M6 -> 0.25022748 | AY6: =P6 -> 0.16954697 | AZ6: =U6 -> 0.31335033 | BA6: =AVERAGE(AW6:AZ6) -> 0.22347699 | BC6: 2002 2003 | BD6: =D6 -> N/A | BE6: =E6 -> N/A | BF6: =L6 -> 0.16976482 | BG6: =N6 -> 0.26285011 | BH6: =O6 -> 0.19922735 | BI6: =W6 -> 0.28645459 | BJ6: =X6 -> N/A | BK6: =Y6 -> N/A | BL6: =AVERAGE(BD6:BK6) -> 0.22957422
A7: 2003 2004 | B7: 0.2067066 | C7: 0.3099973 | D7: 0.20765327 | E7: N/A | F7: 0.38591585 | G7: N/A | H7: 0.14103596 | I7: 0.2353901 | J7: 0.41068206 | K7: 0.14591658 | L7: 0.16456609 | M7: 0.2448011 | N7: 0.24861718 | O7: 0.1961139 | P7: 0.1732026 | Q7: 0.23001143 | R7: N/A | S7: N/A | T7: 0.13654025 | U7: N/A | V7: N/A | W7: 0.30743543 | X7: N/A | Y7: N/A | Z7: N/A | AA7: =AVERAGE(B7:Z7) -> 0.23403661 | AC7: 2003 2004 | AD7: =B7 -> 0.2067066 | AE7: =C7 -> 0.3099973 | AF7: =F7 -> 0.38591585 | AG7: =J7 -> 0.41068206 | AH7: =S7 -> N/A | AI7: =T7 -> 0.13654025 | AJ7: =V7 -> N/A | AK7: =Z7 -> N/A | AL7: =AVERAGE(AD7:AK7) -> 0.28996841 | AN7: 2003 2004 | AO7: =G7 -> N/A | AP7: =H7 -> 0.14103596 | AQ7: =I7 -> 0.2353901 | AR7: =Q7 -> 0.23001143 | AS7: =R7 -> N/A | AT7: =AVERAGE(AO7:AS7) -> 0.20214583 | AV7: 2003 2004 | AW7: =K7 -> 0.14591658 | AX7: =M7 -> 0.2448011 | AY7: =P7 -> 0.1732026 | AZ7: =U7 -> N/A | BA7: =AVERAGE(AW7:AZ7) -> 0.18797343 | BC7: 2003 2004 | BD7: =D7 -> 0.20765327 | BE7: =E7 -> N/A | BF7: =L7 -> 0.16456609 | BG7: =N7 -> 0.24861718 | BH7: =O7 -> 0.1961139 | BI7: =W7 -> 0.30743543 | BJ7: =X7 -> N/A | BK7: =Y7 -> N/A | BL7: =AVERAGE(BD7:BK7) -> 0.22487717
A8: 2004 2005 | B8: 0.19511148 | C8: 0.3602275 | D8: 0.20931869 | E8: N/A | F8: 0.35401193 | G8: N/A | H8: 0.18429593 | I8: N/A | J8: 0.42093406 | K8: 0.10318022 | L8: 0.30963753 | M8: 0.25650842 | N8: 0.24213212 | O8: 0.18827961 | P8: 0.19506341 | Q8: 0.29293667 | R8: N/A | S8: N/A | T8: 0.16738582 | U8: N/A | V8: N/A | W8: 0.36387509 | X8: N/A | Y8: N/A | Z8: N/A | AA8: =AVERAGE(B8:Z8) -> 0.25619323 | AC8: 2004 2005 | AD8: =B8 -> 0.19511148 | AE8: =C8 -> 0.3602275 | AF8: =F8 -> 0.35401193 | AG8: =J8 -> 0.42093406 | AH8: =S8 -> N/A | AI8: =T8 -> 0.16738582 | AJ8: =V8 -> N/A | AK8: =Z8 -> N/A | AL8: =AVERAGE(AD8:AK8) -> 0.29953416 | AN8: 2004 2005 | AO8: =G8 -> N/A | AP8: =H8 -> 0.18429593 | AQ8: =I8 -> N/A | AR8: =Q8 -> 0.29293667 | AS8: =R8 -> N/A | AT8: =AVERAGE(AO8:AS8) -> 0.2386163 | AV8: 2004 2005 | AW8: =K8 -> 0.10318022 | AX8: =M8 -> 0.25650842 | AY8: =P8 -> 0.19506341 | AZ8: =U8 -> N/A | BA8: =AVERAGE(AW8:AZ8) -> 0.18491735 | BC8: 2004 2005 | BD8: =D8 -> 0.20931869 | BE8: =E8 -> N/A | BF8: =L8 -> 0.30963753 | BG8: =N8 -> 0.24213212 | BH8: =O8 -> 0.18827961 | BI8: =W8 -> 0.36387509 | BJ8: =X8 -> N/A | BK8: =Y8 -> N/A | BL8: =AVERAGE(BD8:BK8) -> 0.26264861
A9: 2005 2006 | B9: 0.18889353 | C9: 0.29357099 | D9: 0.20651572 | E9: N/A | F9: 0.36826126 | G9: N/A | H9: 0.17873343 | I9: N/A | J9: 0.39271989 | K9: 0.17896422 | L9: 0.28082987 | M9: 0.26694045 | N9: N/A | O9: 0.17809758 | P9: 0.19710516 | Q9: 0.29855049 | R9: N/A | S9: N/A | T9: 0.14620326 | U9: 0.25729529 | V9: N/A | W9: 0.43232499 | X9: N/A | Y9: N/A | Z9: N/A | AA9: =AVERAGE(B9:Z9) -> 0.25766708 | AC9: 2005 2006 | AD9: =B9 -> 0.18889353 | AE9: =C9 -> 0.29357099 | AF9: =F9 -> 0.36826126 | AG9: =J9 -> 0.39271989 | AH9: =S9 -> N/A | AI9: =T9 -> 0.14620326 | AJ9: =V9 -> N/A | AK9: =Z9 -> N/A | AL9: =AVERAGE(AD9:AK9) -> 0.27792979 | AN9: 2005 2006 | AO9: =G9 -> N/A | AP9: =H9 -> 0.17873343 | AQ9: =I9 -> N/A | AR9: =Q9 -> 0.29855049 | AS9: =R9 -> N/A | AT9: =AVERAGE(AO9:AS9) -> 0.23864196 | AV9: 2005 2006 | AW9: =K9 -> 0.17896422 | AX9: =M9 -> 0.26694045 | AY9: =P9 -> 0.19710516 | AZ9: =U9 -> 0.25729529 | BA9: =AVERAGE(AW9:AZ9) -> 0.22507628 | BC9: 2005 2006 | BD9: =D9 -> 0.20651572 | BE9: =E9 -> N/A | BF9: =L9 -> 0.28082987 | BG9: =N9 -> N/A | BH9: =O9 -> 0.17809758 | BI9: =W9 -> 0.43232499 | BJ9: =X9 -> N/A | BK9: =Y9 -> N/A | BL9: =AVERAGE(BD9:BK9) -> 0.27444204
A10: 2006 2007 | B10: 0.18143087 | C10: 0.30361829 | D10: 0.20328201 | E10: N/A | F10: 0.34709347 | G10: 0.32067676 | H10: 0.16843341 | I10: N/A | J10: 0.3478904 | K10: 0.14488638 | L10: 0.34191412 | M10: 0.24820055 | N10: 0.21100312 | O10: 0.2196762 | P10: 0.20254064 | Q10: 0.30142717 | R10: N/A | S10: N/A | T10: 0.13039698 | U10: 0.28878006 | V10: 0.43551398 | W10: 0.29916138 | X10: N/A | Y10: N/A | Z10: N/A | AA10: =AVERAGE(B10:Z10) -> 0.26088476 | AC10: 2006 2007 | AD10: =B10 -> 0.18143087 | AE10: =C10 -> 0.30361829 | AF10: =F10 -> 0.34709347 | AG10: =J10 -> 0.3478904 | AH10: =S10 -> N/A | AI10: =T10 -> 0.13039698 | AJ10: =V10 -> 0.43551398 | AK10: =Z10 -> N/A | AL10: =AVERAGE(AD10:AK10) -> 0.29099066 | AN10: 2006 2007 | AO10: =G10 -> 0.32067676 | AP10: =H10 -> 0.16843341 | AQ10: =I10 -> N/A | AR10: =Q10 -> 0.30142717 | AS10: =R10 -> N/A | AT10: =AVERAGE(AO10:AS10) -> 0.26351244 | AV10: 2006 2007 | AW10: =K10 -> 0.14488638 | AX10: =M10 -> 0.24820055 | AY10: =P10 -> 0.20254064 | AZ10: =U10 -> 0.28878006 | BA10: =AVERAGE(AW10:AZ10) -> 0.2211019 | BC10: 2006 2007 | BD10: =D10 -> 0.20328201 | BE10: =E10 -> N/A | BF10: =L10 -> 0.34191412 | BG10: =N10 -> 0.21100312 | BH10: =O10 -> 0.2196762 | BI10: =W10 -> 0.29916138 | BJ10: =X10 -> N/A | BK10: =Y10 -> N/A | BL10: =AVERAGE(BD10:BK10) -> 0.25500737
A11: 2007 2008 | B11: 0.20520027 | C11: 0.25810344 | D11: 0.19885264 | E11: N/A | F11: 0.37375859 | G11: 0.29661111 | H11: 0.16312368 | I11: N/A | J11: 0.29807377 | K11: 0.14127218 | L11: 0.39753911 | M11: 0.23664122 | N11: 0.19678601 | O11: 0.25262968 | P11: 0.17575889 | Q11: 0.3262597 | R11: N/A | S11: N/A | T11: 0.11303544 | U11: 0.20743164 | V11: 0.40396593 | W11: 0.24724738 | X11: N/A | Y11: N/A | Z11: N/A | AA11: =AVERAGE(B11:Z11) -> 0.2495717 | AC11: 2007 2008 | AD11: =B11 -> 0.20520027 | AE11: =C11 -> 0.25810344 | AF11: =F11 -> 0.37375859 | AG11: =J11 -> 0.29807377 | AH11: =S11 -> N/A | AI11: =T11 -> 0.11303544 | AJ11: =V11 -> 0.40396593 | AK11: =Z11 -> N/A | AL11: =AVERAGE(AD11:AK11) -> 0.27535624 | AN11: 2007 2008 | AO11: =G11 -> 0.29661111 | AP11: =H11 -> 0.16312368 | AQ11: =I11 -> N/A | AR11: =Q11 -> 0.3262597 | AS11: =R11 -> N/A | AT11: =AVERAGE(AO11:AS11) -> 0.26199816 | AV11: 2007 2008 | AW11: =K11 -> 0.14127218 | AX11: =M11 -> 0.23664122 | AY11: =P11 -> 0.17575889 | AZ11: =U11 -> 0.20743164 | BA11: =AVERAGE(AW11:AZ11) -> 0.19027598 | BC11: 2007 2008 | BD11: =D11 -> 0.19885264 | BE11: =E11 -> N/A | BF11: =L11 -> 0.39753911 | BG11: =N11 -> 0.19678601 | BH11: =O11 -> 0.25262968 | BI11: =W11 -> 0.24724738 | BJ11: =X11 -> N/A | BK11: =Y11 -> N/A | BL11: =AVERAGE(BD11:BK11) -> 0.25861096
A12: 2008 2009 | B12: 0.1657987 | C12: 0.33844104 | D12: 0.19790098 | E12: 0.15435275 | F12: N/A | G12: N/A | H12: 0.13990113 | I12: N/A | J12: 0.39292198 | K12: 0.18392082 | L12: 0.38648019 | M12: 0.24812137 | N12: 0.22854984 | O12: 0.28744037 | P12: 0.17720353 | Q12: N/A | R12: N/A | S12: N/A | T12: 0.093146774 | U12: 0.19968758 | V12: 0.37343333 | W12: 0.28554989 | X12: N/A | Y12: N/A | Z12: N/A | AA12: =AVERAGE(B12:Z12) -> 0.24080314 | AC12: 2008 2009 | AD12: =B12 -> 0.1657987 | AE12: =C12 -> 0.33844104 | AF12: =F12 -> N/A | AG12: =J12 -> 0.39292198 | AH12: =S12 -> N/A | AI12: =T12 -> 0.093146774 | AJ12: =V12 -> 0.37343333 | AK12: =Z12 -> N/A | AL12: =AVERAGE(AD12:AK12) -> 0.27274837 | AN12: 2008 2009 | AO12: =G12 -> N/A | AP12: =H12 -> 0.13990113 | AQ12: =I12 -> N/A | AR12: =Q12 -> N/A | AS12: =R12 -> N/A | AT12: =AVERAGE(AO12:AS12) -> 0.13990113 | AV12: 2008 2009 | AW12: =K12 -> 0.18392082 | AX12: =M12 -> 0.24812137 | AY12: =P12 -> 0.17720353 | AZ12: =U12 -> 0.19968758 | BA12: =AVERAGE(AW12:AZ12) -> 0.20223332 | BC12: 2008 2009 | BD12: =D12 -> 0.19790098 | BE12: =E12 -> 0.15435275 | BF12: =L12 -> 0.38648019 | BG12: =N12 -> 0.22854984 | BH12: =O12 -> 0.28744037 | BI12: =W12 -> 0.28554989 | BJ12: =X12 -> N/A | BK12: =Y12 -> N/A | BL12: =AVERAGE(BD12:BK12) -> 0.25671234
A13: 2009 2010 | B13: 0.15525284 | C13: 0.33601839 | D13: 0.15443724 | E13: 0.19816142 | F13: N/A | G13: 0.2860746 | H13: 0.12126971 | I13: N/A | J13: N/A | K13: 0.18183636 | L13: 0.37575469 | M13: 0.23108815 | N13: 0.24295209 | O13: 0.3033888 | P13: 0.15020876 | Q13: 0.3359087 | R13: N/A | S13: N/A | T13: 0.13015435 | U13: 0.20186984 | V13: 0.30549753 | W13: 0.26870063 | X13: N/A | Y13: N/A | Z13: N/A | AA13: =AVERAGE(B13:Z13) -> 0.23403377 | AC13: 2009 2010 | AD13: =B13 -> 0.15525284 | AE13: =C13 -> 0.33601839 | AF13: =F13 -> N/A | AG13: =J13 -> N/A | AH13: =S13 -> N/A | AI13: =T13 -> 0.13015435 | AJ13: =V13 -> 0.30549753 | AK13: =Z13 -> N/A | AL13: =AVERAGE(AD13:AK13) -> 0.23173078 | AN13: 2009 2010 | AO13: =G13 -> 0.2860746 | AP13: =H13 -> 0.12126971 | AQ13: =I13 -> N/A | AR13: =Q13 -> 0.3359087 | AS13: =R13 -> N/A | AT13: =AVERAGE(AO13:AS13) -> 0.247751 | AV13: 2009 2010 | AW13: =K13 -> 0.18183636 | AX13: =M13 -> 0.23108815 | AY13: =P13 -> 0.15020876 | AZ13: =U13 -> 0.20186984 | BA13: =AVERAGE(AW13:AZ13) -> 0.19125078 | BC13: 2009 2010 | BD13: =D13 -> 0.15443724 | BE13: =E13 -> 0.19816142 | BF13: =L13 -> 0.37575469 | BG13: =N13 -> 0.24295209 | BH13: =O13 -> 0.3033888 | BI13: =W13 -> 0.26870063 | BJ13: =X13 -> N/A | BK13: =Y13 -> N/A | BL13: =AVERAGE(BD13:BK13) -> 0.25723248
A14: 2010 2011 | B14: 0.16245602 | C14: 0.39145136 | D14: 0.18328178 | E14: 0.1944257 | F14: 0.3510652 | G14: 0.28770438 | H14: 0.12853747 | I14: 0.17964103 | J14: N/A | K14: 0.17307257 | L14: 0.33048555 | M14: 0.23450357 | N14: N/A | O14: 0.28142994 | P14: 0.14832536 | Q14: N/A | R14: N/A | S14: N/A | T14: 0.13869489 | U14: 0.1974181 | V14: 0.3189559 | W14: 0.2731835 | X14: N/A | Y14: N/A | Z14: N/A | AA14: =AVERAGE(B14:Z14) -> 0.2338019 | AC14: 2010 2011 | AD14: =B14 -> 0.16245602 | AE14: =C14 -> 0.39145136 | AF14: =F14 -> 0.3510652 | AG14: =J14 -> N/A | AH14: =S14 -> N/A | AI14: =T14 -> 0.13869489 | AJ14: =V14 -> 0.3189559 | AK14: =Z14 -> N/A | AL14: =AVERAGE(AD14:AK14) -> 0.27252468 | AN14: 2010 2011 | AO14: =G14 -> 0.28770438 | AP14: =H14 -> 0.12853747 | AQ14: =I14 -> 0.17964103 | AR14: =Q14 -> N/A | AS14: =R14 -> N/A | AT14: =AVERAGE(AO14:AS14) -> 0.19862763 | AV14: 2010 2011 | AW14: =K14 -> 0.17307257 | AX14: =M14 -> 0.23450357 | AY14: =P14 -> 0.14832536 | AZ14: =U14 -> 0.1974181 | BA14: =AVERAGE(AW14:AZ14) -> 0.1883299 | BC14: 2010 2011 | BD14: =D14 -> 0.18328178 | BE14: =E14 -> 0.1944257 | BF14: =L14 -> 0.33048555 | BG14: =N14 -> N/A | BH14: =O14 -> 0.28142994 | BI14: =W14 -> 0.2731835 | BJ14: =X14 -> N/A | BK14: =Y14 -> N/A | BL14: =AVERAGE(BD14:BK14) -> 0.25256129
A15: 2011 2012 | B15: 0.16805925 | C15: 0.36822794 | D15: 0.17689751 | E15: 0.23739951 | F15: 0.33538778 | G15: 0.24639127 | H15: 0.1186724 | I15: 0.17710506 | J15: 0.22321853 | K15: 0.07206122 | L15: 0.36065312 | M15: 0.23548409 | N15: N/A | O15: 0.27317135 | P15: 0.1331146 | Q15: 0.30669966 | R15: N/A | S15: N/A | T15: 0.20143805 | U15: 0.19336614 | V15: 0.31573487 | W15: 0.28832378 | X15: N/A | Y15: N/A | Z15: N/A | AA15: =AVERAGE(B15:Z15) -> 0.2332319 | AC15: 2011 2012 | AD15: =B15 -> 0.16805925 | AE15: =C15 -> 0.36822794 | AF15: =F15 -> 0.33538778 | AG15: =J15 -> 0.22321853 | AH15: =S15 -> N/A | AI15: =T15 -> 0.20143805 | AJ15: =V15 -> 0.31573487 | AK15: =Z15 -> N/A | AL15: =AVERAGE(AD15:AK15) -> 0.26867774 | AN15: 2011 2012 | AO15: =G15 -> 0.24639127 | AP15: =H15 -> 0.1186724 | AQ15: =I15 -> 0.17710506 | AR15: =Q15 -> 0.30669966 | AS15: =R15 -> N/A | AT15: =AVERAGE(AO15:AS15) -> 0.2122171 | AV15: 2011 2012 | AW15: =K15 -> 0.07206122 | AX15: =M15 -> 0.23548409 | AY15: =P15 -> 0.1331146 | AZ15: =U15 -> 0.19336614 | BA15: =AVERAGE(AW15:AZ15) -> 0.15850651 | BC15: 2011 2012 | BD15: =D15 -> 0.17689751 | BE15: =E15 -> 0.23739951 | BF15: =L15 -> 0.36065312 | BG15: =N15 -> N/A | BH15: =O15 -> 0.27317135 | BI15: =W15 -> 0.28832378 | BJ15: =X15 -> N/A | BK15: =Y15 -> N/A | BL15: =AVERAGE(BD15:BK15) -> 0.26728905
A16: 2012 2013 | B16: 0.18327273 | C16: 0.36296925 | D16: 0.26076268 | E16: 0.2012525 | F16: 0.3674 | G16: 0.23783017 | H16: 0.039291468 | I16: 0.19066919 | J16: 0.20437437 | K16: 0.18009157 | L16: 0.38084673 | M16: 0.22875817 | N16: 0.2155 | O16: 0.24892552 | P16: 0.1302682 | Q16: 0.25169025 | R16: N/A | S16: N/A | T16: 0.19954318 | U16: 0.20869211 | V16: 0.32359075 | W16: 0.26326953 | X16: N/A | Y16: N/A | Z16: N/A | AA16: =AVERAGE(B16:Z16) -> 0.23394992 | AC16: 2012 2013 | AD16: =B16 -> 0.18327273 | AE16: =C16 -> 0.36296925 | AF16: =F16 -> 0.3674 | AG16: =J16 -> 0.20437437 | AH16: =S16 -> N/A | AI16: =T16 -> 0.19954318 | AJ16: =V16 -> 0.32359075 | AK16: =Z16 -> N/A | AL16: =AVERAGE(AD16:AK16) -> 0.27352505 | AN16: 2012 2013 | AO16: =G16 -> 0.23783017 | AP16: =H16 -> 0.039291468 | AQ16: =I16 -> 0.19066919 | AR16: =Q16 -> 0.25169025 | AS16: =R16 -> N/A | AT16: =AVERAGE(AO16:AS16) -> 0.17987027 | AV16: 2012 2013 | AW16: =K16 -> 0.18009157 | AX16: =M16 -> 0.22875817 | AY16: =P16 -> 0.1302682 | AZ16: =U16 -> 0.20869211 | BA16: =AVERAGE(AW16:AZ16) -> 0.18695251 | BC16: 2012 2013 | BD16: =D16 -> 0.26076268 | BE16: =E16 -> 0.2012525 | BF16: =L16 -> 0.38084673 | BG16: =N16 -> 0.2155 | BH16: =O16 -> 0.24892552 | BI16: =W16 -> 0.26326953 | BJ16: =X16 -> N/A | BK16: =Y16 -> N/A | BL16: =AVERAGE(BD16:BK16) -> 0.26175949
A17: 2013 2014 | B17: 0.1497391 | C17: 0.37359681 | D17: 0.19304048 | E17: 0.19924 | F17: 0.39051011 | G17: 0.2244689 | H17: 0.14714769 | I17: 0.20838008 | J17: 0.25256038 | K17: 0.098661307 | L17: 0.32172154 | M17: 0.21377751 | N17: 0.20296021 | O17: 0.28133512 | P17: 0.13778046 | Q17: 0.2755861 | R17: N/A | S17: N/A | T17: 0.22305011 | U17: 0.20619028 | V17: 0.316933 | W17: 0.26929848 | X17: N/A | Y17: 0.39846082 | Z17: N/A | AA17: =AVERAGE(B17:Z17) -> 0.24211612 | AC17: 2013 2014 | AD17: =B17 -> 0.1497391 | AE17: =C17 -> 0.37359681 | AF17: =F17 -> 0.39051011 | AG17: =J17 -> 0.25256038 | AH17: =S17 -> N/A | AI17: =T17 -> 0.22305011 | AJ17: =V17 -> 0.316933 | AK17: =Z17 -> N/A | AL17: =AVERAGE(AD17:AK17) -> 0.28439825 | AN17: 2013 2014 | AO17: =G17 -> 0.2244689 | AP17: =H17 -> 0.14714769 | AQ17: =I17 -> 0.20838008 | AR17: =Q17 -> 0.2755861 | AS17: =R17 -> N/A | AT17: =AVERAGE(AO17:AS17) -> 0.21389569 | AV17: 2013 2014 | AW17: =K17 -> 0.098661307 | AX17: =M17 -> 0.21377751 | AY17: =P17 -> 0.13778046 | AZ17: =U17 -> 0.20619028 | BA17: =AVERAGE(AW17:AZ17) -> 0.16410239 | BC17: 2013 2014 | BD17: =D17 -> 0.19304048 | BE17: =E17 -> 0.19924 | BF17: =L17 -> 0.32172154 | BG17: =N17 -> 0.20296021 | BH17: =O17 -> 0.28133512 | BI17: =W17 -> 0.26929848 | BJ17: =X17 -> N/A | BK17: =Y17 -> 0.39846082 | BL17: =AVERAGE(BD17:BK17) -> 0.26657952
A18: 2014 2015 | B18: 0.14120497 | C18: 0.38524007 | D18: 0.23710339 | E18: 0.22071777 | F18: 0.41984956 | G18: 0.23427823 | H18: 0.078445817 | I18: 0.2211389 | J18: 0.35483823 | K18: 0.25560277 | L18: 0.30745308 | M18: N/A | N18: N/A | O18: 0.28254997 | P18: 0.20668396 | Q18: 0.29540364 | R18: N/A | S18: N/A | T18: 0.18032166 | U18: 0.21261587 | V18: 0.33292993 | W18: 0.28109467 | X18: 0.48574815 | Y18: 0.39345656 | Z18: N/A | AA18: =AVERAGE(B18:Z18) -> 0.27633386 | AC18: 2014 2015 | AD18: =B18 -> 0.14120497 | AE18: =C18 -> 0.38524007 | AF18: =F18 -> 0.41984956 | AG18: =J18 -> 0.35483823 | AH18: =S18 -> N/A | AI18: =T18 -> 0.18032166 | AJ18: =V18 -> 0.33292993 | AK18: =Z18 -> N/A | AL18: =AVERAGE(AD18:AK18) -> 0.3023974 | AN18: 2014 2015 | AO18: =G18 -> 0.23427823 | AP18: =H18 -> 0.078445817 | AQ18: =I18 -> 0.2211389 | AR18: =Q18 -> 0.29540364 | AS18: =R18 -> N/A | AT18: =AVERAGE(AO18:AS18) -> 0.20731665 | AV18: 2014 2015 | AW18: =K18 -> 0.25560277 | AX18: =M18 -> N/A | AY18: =P18 -> 0.20668396 | AZ18: =U18 -> 0.21261587 | BA18: =AVERAGE(AW18:AZ18) -> 0.22496753 | BC18: 2014 2015 | BD18: =D18 -> 0.23710339 | BE18: =E18 -> 0.22071777 | BF18: =L18 -> 0.30745308 | BG18: =N18 -> N/A | BH18: =O18 -> 0.28254997 | BI18: =W18 -> 0.28109467 | BJ18: =X18 -> 0.48574815 | BK18: =Y18 -> 0.39345656 | BL18: =AVERAGE(BD18:BK18) -> 0.31544623

Sheet Data - All institutions
A1: F.4 Collection Expenditure As % Of Total Library
A2: Year/Institution | B2: ACAD | C2: Ambrose University | D2: BCIT | E2: Bow Valley College | F2: Burman University | G2: Concordia University College | H2: Grand Prairie Regional College | I2: Keyano College | J2: King's University | K2: Lakeland College | L2: MacEwan University | M2: Medicine Hat College | N2: Mount Royal University | O2: NAIT | P2: Norquest College | Q2: Northern Lakes College | R2: Olds College | S2: Portage College | T2: Red Deer College | U2: Saint Mary's University College | V2: SAIT Polytechnic | W2: University of Alberta | X2: University of Lethbridge | Y2: Vanguard College (Northwest Bible) | Z2: Average
A3: =Data!A3 -> 1999 2000 | B3: =Data!B3 -> 0.1724204 | C3: =Data!C3 -> N/A | D3: =Data!D3 -> 0.22382793 | E3: =Data!E3 -> N/A | F3: =Data!F3 -> 0.2766766 | G3: =Data!G3 -> N/A | H3: =Data!H3 -> 0.17774815 | ... R3: =Data!R3 -> N/A | S3: =Data!T3 -> 0.20629371 | T3: =Data!U3 -> 0.28948334 | U3: =Data!V3 -> N/A | V3: =Data!W3 -> 0.23173382 | W3: =Data!X3 -> N/A | X3: =Data!Y3 -> N/A | Y3: =Data!Z3 -> N/A | Z3: =Data!AA3 -> 0.23186867
A4: =Data!A4 -> 2000 2001 | B4: =Data!B4 -> 0.14953178 | C4: =Data!C4 -> 0.18147685 | D4: =Data!D4 -> 0.22382793 | E4: =Data!E4 -> N/A | F4: =Data!F4 -> 0.3066679 | G4: =Data!G4 -> N/A | H4: =Data!H4 -> 0.15015395 | ... R4: =Data!R4 -> N/A | S4: =Data!T4 -> 0.16358321 | T4: =Data!U4 -> N/A | U4: =Data!V4 -> N/A | V4: =Data!W4 -> 0.22187495 | W4: =Data!X4 -> N/A | X4: =Data!Y4 -> N/A | Y4: =Data!Z4 -> N/A | Z4: =Data!AA4 -> 0.2274432
A5: =Data!A5 -> 2001 2002 | B5: =Data!B5 -> 0.1712275 | C5: =Data!C5 -> 0.1840796 | D5: =Data!D5 -> 0.24327346 | E5: =Data!E5 -> N/A | F5: =Data!F5 -> 0.34374578 | G5: =Data!G5 -> N/A | H5: =Data!H5 -> 0.15049807 | ... R5: =Data!R5 -> N/A | S5: =Data!T5 -> 0.17658054 | T5: =Data!U5 -> 0.34250488 | U5: =Data!V5 -> N/A | V5: =Data!W5 -> 0.26482997 | W5: =Data!X5 -> N/A | X5: =Data!Y5 -> N/A | Y5: =Data!Z5 -> N/A | Z5: =Data!AA5 -> 0.24513196
A6: =Data!A6 -> 2002 2003 | B6: =Data!B6 -> 0.18963166 | C6: =Data!C6 -> 0.2734631 | D6: =Data!D6 -> N/A | E6: =Data!E6 -> N/A | F6: =Data!F6 -> 0.37697317 | G6: =Data!G6 -> N/A | H6: =Data!H6 -> 0.14345028 | ... R6: =Data!R6 -> N/A | S6: =Data!T6 -> 0.15974556 | T6: =Data!U6 -> 0.31335033 | U6: =Data!V6 -> N/A | V6: =Data!W6 -> 0.28645459 | W6: =Data!X6 -> N/A | X6: =Data!Y6 -> N/A | Y6: =Data!Z6 -> N/A | Z6: =Data!AA6 -> 0.23909906
A7: =Data!A7 -> 2003 2004 | B7: =Data!B7 -> 0.2067066 | C7: =Data!C7 -> 0.3099973 | D7: =Data!D7 -> 0.20765327 | E7: =Data!E7 -> N/A | F7: =Data!F7 -> 0.38591585 | G7: =Data!G7 -> N/A | H7: =Data!H7 -> 0.14103596 | ... R7: =Data!R7 -> N/A | S7: =Data!T7 -> 0.13654025 | T7: =Data!U7 -> N/A | U7: =Data!V7 -> N/A | V7: =Data!W7 -> 0.30743543 | W7: =Data!X7 -> N/A | X7: =Data!Y7 -> N/A | Y7: =Data!Z7 -> N/A | Z7: =Data!AA7 -> 0.23403661
A8: =Data!A8 -> 2004 2005 | B8: =Data!B8 -> 0.19511148 | C8: =Data!C8 -> 0.3602275 | D8: =Data!D8 -> 0.20931869 | E8: =Data!E8 -> N/A | F8: =Data!F8 -> 0.35401193 | G8: =Data!G8 -> N/A | H8: =Data!H8 -> 0.18429593 | ... R8: =Data!R8 -> N/A | S8: =Data!T8 -> 0.16738582 | T8: =Data!U8 -> N/A | U8: =Data!V8 -> N/A | V8: =Data!W8 -> 0.36387509 | W8: =Data!X8 -> N/A | X8: =Data!Y8 -> N/A | Y8: =Data!Z8 -> N/A | Z8: =Data!AA8 -> 0.25619323
A9: =Data!A9 -> 2005 2006 | B9: =Data!B9 -> 0.18889353 | C9: =Data!C9 -> 0.29357099 | D9: =Data!D9 -> 0.20651572 | E9: =Data!E9 -> N/A | F9: =Data!F9 -> 0.36826126 | G9: =Data!G9 -> N/A | H9: =Data!H9 -> 0.17873343 | ... R9: =Data!R9 -> N/A | S9: =Data!T9 -> 0.14620326 | T9: =Data!U9 -> 0.25729529 | U9: =Data!V9 -> N/A | V9: =Data!W9 -> 0.43232499 | W9: =Data!X9 -> N/A | X9: =Data!Y9 -> N/A | Y9: =Data!Z9 -> N/A | Z9: =Data!AA9 -> 0.25766708
A10: =Data!A10 -> 2006 2007 | B10: =Data!B10 -> 0.18143087 | C10: =Data!C10 -> 0.30361829 | D10: =Data!D10 -> 0.20328201 | E10: =Data!E10 -> N/A | F10: =Data!F10 -> 0.34709347 | G10: =Data!G10 -> 0.32067676 | H10: =Data!H10 -> 0.16843341 | ... R10: =Data!R10 -> N/A | S10: =Data!T10 -> 0.13039698 | T10: =Data!U10 -> 0.28878006 | U10: =Data!V10 -> 0.43551398 | V10: =Data!W10 -> 0.29916138 | W10: =Data!X10 -> N/A | X10: =Data!Y10 -> N/A | Y10: =Data!Z10 -> N/A | Z10: =Data!AA10 -> 0.26088476
A11: =Data!A11 -> 2007 2008 | B11: =Data!B11 -> 0.20520027 | C11: =Data!C11 -> 0.25810344 | D11: =Data!D11 -> 0.19885264 | E11: =Data!E11 -> N/A | F11: =Data!F11 -> 0.37375859 | G11: =Data!G11 -> 0.29661111 | H11: =Data!H11 -> 0.16312368 | ... R11: =Data!R11 -> N/A | S11: =Data!T11 -> 0.11303544 | T11: =Data!U11 -> 0.20743164 | U11: =Data!V11 -> 0.40396593 | V11: =Data!W11 -> 0.24724738 | W11: =Data!X11 -> N/A | X11: =Data!Y11 -> N/A | Y11: =Data!Z11 -> N/A | Z11: =Data!AA11 -> 0.2495717
A12: =Data!A12 -> 2008 2009 | B12: =Data!B12 -> 0.1657987 | C12: =Data!C12 -> 0.33844104 | D12: =Data!D12 -> 0.19790098 | E12: =Data!E12 -> 0.15435275 | F12: =Data!F12 -> N/A | G12: =Data!G12 -> N/A | H12: =Data!H12 -> 0.13990113 | ... R12: =Data!R12 -> N/A | S12: =Data!T12 -> 0.093146774 | T12: =Data!U12 -> 0.19968758 | U12: =Data!V12 -> 0.37343333 | V12: =Data!W12 -> 0.28554989 | W12: =Data!X12 -> N/A | X12: =Data!Y12 -> N/A | Y12: =Data!Z12 -> N/A | Z12: =Data!AA12 -> 0.24080314
A13: =Data!A13 -> 2009 2010 | B13: =Data!B13 -> 0.15525284 | C13: =Data!C13 -> 0.33601839 | D13: =Data!D13 -> 0.15443724 | E13: =Data!E13 -> 0.19816142 | F13: =Data!F13 -> N/A | G13: =Data!G13 -> 0.2860746 | H13: =Data!H13 -> 0.12126971 | ... R13: =Data!R13 -> N/A | S13: =Data!T13 -> 0.13015435 | T13: =Data!U13 -> 0.20186984 | U13: =Data!V13 -> 0.30549753 | V13: =Data!W13 -> 0.26870063 | W13: =Data!X13 -> N/A | X13: =Data!Y13 -> N/A | Y13: =Data!Z13 -> N/A | Z13: =Data!AA13 -> 0.23403377
A14: =Data!A14 -> 2010 2011 | B14: =Data!B14 -> 0.16245602 | C14: =Data!C14 -> 0.39145136 | D14: =Data!D14 -> 0.18328178 | E14: =Data!E14 -> 0.1944257 | F14: =Data!F14 -> 0.3510652 | G14: =Data!G14 -> 0.28770438 | H14: =Data!H14 -> 0.12853747 | ... R14: =Data!R14 -> N/A | S14: =Data!T14 -> 0.13869489 | T14: =Data!U14 -> 0.1974181 | U14: =Data!V14 -> 0.3189559 | V14: =Data!W14 -> 0.2731835 | W14: =Data!X14 -> N/A | X14: =Data!Y14 -> N/A | Y14: =Data!Z14 -> N/A | Z14: =Data!AA14 -> 0.2338019
... A18: =Data!A18 -> 2014 2015 | B18: =Data!B18 -> 0.14120497 | C18: =Data!C18 -> 0.38524007 | D18: =Data!D18 -> 0.23710339 | E18: =Data!E18 -> 0.22071777 | F18: =Data!F18 -> 0.41984956 | G18: =Data!G18 -> 0.23427823 | H18: =Data!H18 -> 0.078445817 | ... R18: =Data!R18 -> N/A | S18: =Data!T18 -> 0.18032166 | T18: =Data!U18 -> 0.21261587 | U18: =Data!V18 -> 0.33292993 | V18: =Data!W18 -> 0.28109467 | W18: =Data!X18 -> 0.48574815 | X18: =Data!Y18 -> 0.39345656 | Y18: =Data!Z18 -> N/A | Z18: =Data!AA18 -> 0.27633386

Sheet Data - FLE Below 1001
A1: F.4 Collection Expenditure As % Of Total Library - FLE Below 1001
A2: Year/Institution | B2: ACAD | C2: Ambrose University | D2: Burman University | E2: King's University | F2: Portage College | G2: Saint Mary's University College | H2: Vanguard College (Northwest Bible) | I2: Average
A3: =Data!AC3 -> 1999 2000 | B3: =Data!AD3 -> 0.1724204 | C3: =Data!AE3 -> N/A | D3: =Data!AF3 -> 0.2766766 | E3: =Data!AG3 -> 0.33541266 | F3: =Data!AI3 -> 0.20629371 | G3: =Data!AJ3 -> N/A | H3: =Data!AK3 -> N/A | I3: =Data!AL3 -> 0.24770084
A4: =Data!AC4 -> 2000 2001 | B4: =Data!AD4 -> 0.14953178 | C4: =Data!AE4 -> 0.18147685 | D4: =Data!AF4 -> 0.3066679 | E4: =Data!AG4 -> 0.38262561 | F4: =Data!AI4 -> 0.16358321 | G4: =Data!AJ4 -> N/A | H4: =Data!AK4 -> N/A | I4: =Data!AL4 -> 0.23677707
A5: =Data!AC5 -> 2001 2002 | B5: =Data!AD5 -> 0.1712275 | C5: =Data!AE5 -> 0.1840796 | D5: =Data!AF5 -> 0.34374578 | E5: =Data!AG5 -> 0.42389378 | F5: =Data!AI5 -> 0.17658054 | G5: =Data!AJ5 -> N/A | H5: =Data!AK5 -> N/A | I5: =Data!AL5 -> 0.25990544
A6: =Data!AC6 -> 2002 2003 | B6: =Data!AD6 -> 0.18963166 | C6: =Data!AE6 -> 0.2734631 | D6: =Data!AF6 -> 0.37697317 | E6: =Data!AG6 -> 0.41741891 | F6: =Data!AI6 -> 0.15974556 | G6: =Data!AJ6 -> N/A | H6: =Data!AK6 -> N/A | I6: =Data!AL6 -> 0.28344648
A7: =Data!AC7 -> 2003 2004 | B7: =Data!AD7 -> 0.2067066 | C7: =Data!AE7 -> 0.3099973 | D7: =Data!AF7 -> 0.38591585 | E7: =Data!AG7 -> 0.41068206 | F7: =Data!AI7 -> 0.13654025 | G7: =Data!AJ7 -> N/A | H7: =Data!AK7 -> N/A | I7: =Data!AL7 -> 0.28996841
A8: =Data!AC8 -> 2004 2005 | B8: =Data!AD8 -> 0.19511148 | C8: =Data!AE8 -> 0.3602275 | D8: =Data!AF8 -> 0.35401193 | E8: =Data!AG8 -> 0.42093406 | F8: =Data!AI8 -> 0.16738582 | G8: =Data!AJ8 -> N/A | H8: =Data!AK8 -> N/A | I8: =Data!AL8 -> 0.29953416
A9: =Data!AC9 -> 2005 2006 | B9: =Data!AD9 -> 0.18889353 | C9: =Data!AE9 -> 0.29357099 | D9: =Data!AF9 -> 0.36826126 | E9: =Data!AG9 -> 0.39271989 | F9: =Data!AI9 -> 0.14620326 | G9: =Data!AJ9 -> N/A | H9: =Data!AK9 -> N/A | I9: =Data!AL9 -> 0.27792979
A10: =Data!AC10 -> 2006 2007 | B10: =Data!AD10 -> 0.18143087 | C10: =Data!AE10 -> 0.30361829 | D10: =Data!AF10 -> 0.34709347 | E10: =Data!AG10 -> 0.3478904 | F10: =Data!AI10 -> 0.13039698 | G10: =Data!AJ10 -> 0.43551398 | H10: =Data!AK10 -> N/A | I10: =Data!AL10 -> 0.29099066
A11: =Data!AC11 -> 2007 2008 | B11: =Data!AD11 -> 0.20520027 | C11: =Data!AE11 -> 0.25810344 | D11: =Data!AF11 -> 0.37375859 | E11: =Data!AG11 -> 0.29807377 | F11: =Data!AI11 -> 0.11303544 | G11: =Data!AJ11 -> 0.40396593 | H11: =Data!AK11 -> N/A | I11: =Data!AL11 -> 0.27535624
A12: =Data!AC12 -> 2008 2009 | B12: =Data!AD12 -> 0.1657987 | C12: =Data!AE12 -> 0.33844104 | D12: =Data!AF12 -> N/A | E12: =Data!AG12 -> 0.39292198 | F12: =Data!AI12 -> 0.093146774 | G12: =Data!AJ12 -> 0.37343333 | H12: =Data!AK12 -> N/A | I12: =Data!AL12 -> 0.27274837
A13: =Data!AC13 -> 2009 2010 | B13: =Data!AD13 -> 0.15525284 | C13: =Data!AE13 -> 0.33601839 | D13: =Data!AF13 -> N/A | E13: =Data!AG13 -> N/A | F13: =Data!AI13 -> 0.13015435 | G13: =Data!AJ13 -> 0.30549753 | H13: =Data!AK13 -> N/A | I13: =Data!AL13 -> 0.23173078
A14: =Data!AC14 -> 2010 2011 | B14: =Data!AD14 -> 0.16245602 | C14: =Data!AE14 -> 0.39145136 | D14: =Data!AF14 -> 0.3510652 | E14: =Data!AG14 -> N/A | F14: =Data!AI14 -> 0.13869489 | G14: =Data!AJ14 -> 0.3189559 | H14: =Data!AK14 -> N/A | I14: =Data!AL14 -> 0.27252468
... A18: =Data!AC18 -> 2014 2015 | B18: =Data!AD18 -> 0.14120497 | C18: =Data!AE18 -> 0.38524007 | D18: =Data!AF18 -> 0.41984956 | E18: =Data!AG18 -> 0.35483823 | F18: =Data!AI18 -> 0.18032166 | G18: =Data!AJ18 -> 0.33292993 | H18: =Data!AK18 -> N/A | I18: =Data!AL18 -> 0.3023974

Sheet Data - FLE 1001 to 2000
A1: F.4 Collection Expenditure As % Of Total Library - FLE 1001 to 2000
A2: Year/Institution | B2: Concordia University College | C2: Grand Prairie Regional College | D2: Keyano College | E2: Northern Lakes College | F2: Olds College | G2: Average
A3: =Data!AN3 -> 1999 2000 | B3: =Data!AO3 -> N/A | C3: =Data!AP3 -> 0.17774815 | D3: =Data!AQ3 -> 0.23398807 | E3: =Data!AR3 -> 0.24606235 | F3: =Data!AS3 -> N/A | G3: =Data!AT3 -> 0.21926619
A4: =Data!AN4 -> 2000 2001 | B4: =Data!AO4 -> N/A | C4: =Data!AP4 -> 0.15015395 | D4: =Data!AQ4 -> 0.26064612 | E4: =Data!AR4 -> 0.25122673 | F4: =Data!AS4 -> N/A | G4: =Data!AT4 -> 0.2206756
A5: =Data!AN5 -> 2001 2002 | B5: =Data!AO5 -> N/A | C5: =Data!AP5 -> 0.15049807 | D5: =Data!AQ5 -> 0.3323745 | E5: =Data!AR5 -> 0.23991977 | F5: =Data!AS5 -> N/A | G5: =Data!AT5 -> 0.24093078
A6: =Data!AN6 -> 2002 2003 | B6: =Data!AO6 -> N/A | C6: =Data!AP6 -> 0.14345028 | D6: =Data!AQ6 -> 0.24493157 | E6: =Data!AR6 -> 0.20776589 | F6: =Data!AS6 -> N/A | G6: =Data!AT6 -> 0.19871591
A7: =Data!AN7 -> 2003 2004 | B7: =Data!AO7 -> N/A | C7: =Data!AP7 -> 0.14103596 | D7: =Data!AQ7 -> 0.2353901 | E7: =Data!AR7 -> 0.23001143 | F7: =Data!AS7 -> N/A | G7: =Data!AT7 -> 0.20214583
A8: =Data!AN8 -> 2004 2005 | B8: =Data!AO8 -> N/A | C8: =Data!AP8 -> 0.18429593 | D8: =Data!AQ8 -> N/A | E8: =Data!AR8 -> 0.29293667 | F8: =Data!AS8 -> N/A | G8: =Data!AT8 -> 0.2386163
A9: =Data!AN9 -> 2005 2006 | B9: =Data!AO9 -> N/A | C9: =Data!AP9 -> 0.17873343 | D9: =Data!AQ9 -> N/A | E9: =Data!AR9 -> 0.29855049 | F9: =Data!AS9 -> N/A | G9: =Data!AT9 -> 0.23864196
A10: =Data!AN10 -> 2006 2007 | B10: =Data!AO10 -> 0.32067676 | C10: =Data!AP10 -> 0.16843341 | D10: =Data!AQ10 -> N/A | E10: =Data!AR10 -> 0.30142717 | F10: =Data!AS10 -> N/A | G10: =Data!AT10 -> 0.26351244
A11: =Data!AN11 -> 2007 2008 | B11: =Data!AO11 -> 0.29661111 | C11: =Data!AP11 -> 0.16312368 | D11: =Data!AQ11 -> N/A | E11: =Data!AR11 -> 0.3262597 | F11: =Data!AS11 -> N/A | G11: =Data!AT11 -> 0.26199816
A12: =Data!AN12 -> 2008 2009 | B12: =Data!AO12 -> N/A | C12: =Data!AP12 -> 0.13990113 | D12: =Data!AQ12 -> N/A | E12: =Data!AR12 -> N/A | F12: =Data!AS12 -> N/A | G12: =Data!AT12 -> 0.13990113
A13: =Data!AN13 -> 2009 2010 | B13: =Data!AO13 -> 0.2860746 | C13: =Data!AP13 -> 0.12126971 | D13: =Data!AQ13 -> N/A | E13: =Data!AR13 -> 0.3359087 | F13: =Data!AS13 -> N/A | G13: =Data!AT13 -> 0.247751
A14: =Data!AN14 -> 2010 2011 | B14: =Data!AO14 -> 0.28770438 | C14: =Data!AP14 -> 0.12853747 | D14: =Data!AQ14 -> 0.17964103 | E14: =Data!AR14 -> N/A | F14: =Data!AS14 -> N/A | G14: =Data!AT14 -> 0.19862763
... A18: =Data!AN18 -> 2014 2015 | B18: =Data!AO18 -> 0.23427823 | C18: =Data!AP18 -> 0.078445817 | D18: =Data!AQ18 -> 0.2211389 | E18: =Data!AR18 -> 0.29540364 | F18: =Data!AS18 -> N/A | G18: =Data!AT18 -> 0.20731665

Sheet Data - FLE 2001 to 5000
A1: F.4 Collection Expenditure As % Of Total Library - FLE 2001 to 5000
A2: Year/Institution | B2: Lakeland College | C2: Medicine Hat College | D2: Norquest College | E2: Red Deer College | F2: Average
A3: =Data!AV3 -> 1999 2000 | B3: =Data!AW3 -> N/A | C3: =Data!AX3 -> 0.25161302 | D3: =Data!AY3 -> 0.24470564 | E3: =Data!AZ3 -> 0.28948334 | F3: =Data!BA3 -> 0.261934
A4: =Data!AV4 -> 2000 2001 | B4: =Data!AW4 -> 0.25663846 | C4: =Data!AX4 -> 0.26361188 | D4: =Data!AY4 -> 0.16450816 | E4: =Data!AZ4 -> N/A | F4: =Data!BA4 -> 0.22825283
A5: =Data!AV5 -> 2001 2002 | B5: =Data!AW5 -> 0.25487267 | C5: =Data!AX5 -> 0.24480891 | D5: =Data!AY5 -> 0.1534963 | E5: =Data!AZ5 -> 0.34250488 | F5: =Data!BA5 -> 0.24892069
A6: =Data!AV6 -> 2002 2003 | B6: =Data!AW6 -> 0.16078316 | C6: =Data!AX6 -> 0.25022748 | D6: =Data!AY6 -> 0.16954697 | E6: =Data!AZ6 -> 0.31335033 | F6: =Data!BA6 -> 0.22347699
A7: =Data!AV7 -> 2003 2004 | B7: =Data!AW7 -> 0.14591658 | C7: =Data!AX7 -> 0.2448011 | D7: =Data!AY7 -> 0.1732026 | E7: =Data!AZ7 -> N/A | F7: =Data!BA7 -> 0.18797343
A8: =Data!AV8 -> 2004 2005 | B8: =Data!AW8 -> 0.10318022 | C8: =Data!AX8 -> 0.25650842 | D8: =Data!AY8 -> 0.19506341 | E8: =Data!AZ8 -> N/A | F8: =Data!BA8 -> 0.18491735
A9: =Data!AV9 -> 2005 2006 | B9: =Data!AW9 -> 0.17896422 | C9: =Data!AX9 -> 0.26694045 | D9: =Data!AY9 -> 0.19710516 | E9: =Data!AZ9 -> 0.25729529 | F9: =Data!BA9 -> 0.22507628
A10: =Data!AV10 -> 2006 2007 | B10: =Data!AW10 -> 0.14488638 | C10: =Data!AX10 -> 0.24820055 | D10: =Data!AY10 -> 0.20254064 | E10: =Data!AZ10 -> 0.28878006 | F10: =Data!BA10 -> 0.2211019
A11: =Data!AV11 -> 2007 2008 | B11: =Data!AW11 -> 0.14127218 | C11: =Data!AX11 -> 0.23664122 | D11: =Data!AY11 -> 0.17575889 | E11: =Data!AZ11 -> 0.20743164 | F11: =Data!BA11 -> 0.19027598
A12: =Data!AV12 -> 2008 2009 | B12: =Data!AW12 -> 0.18392082 | C12: =Data!AX12 -> 0.24812137 | D12: =Data!AY12 -> 0.17720353 | E12: =Data!AZ12 -> 0.19968758 | F12: =Data!BA12 -> 0.20223332
A13: =Data!AV13 -> 2009 2010 | B13: =Data!AW13 -> 0.18183636 | C13: =Data!AX13 -> 0.23108815 | D13: =Data!AY13 -> 0.15020876 | E13: =Data!AZ13 -> 0.20186984 | F13: =Data!BA13 -> 0.19125078
A14: =Data!AV14 -> 2010 2011 | B14: =Data!AW14 -> 0.17307257 | C14: =Data!AX14 -> 0.23450357 | D14: =Data!AY14 -> 0.14832536 | E14: =Data!AZ14 -> 0.1974181 | F14: =Data!BA14 -> 0.1883299
... A18: =Data!AV18 -> 2014 2015 | B18: =Data!AW18 -> 0.25560277 | C18: =Data!AX18 -> N/A | D18: =Data!AY18 -> 0.20668396 | E18: =Data!AZ18 -> 0.21261587 | F18: =Data!BA18 -> 0.22496753

Sheet Data - FLE Above 5000
A1: F.4 Collection Expenditure As % Of Total Library - FLE Above 5000
A2: Year/Institution | B2: BCIT | C2: Bow Valley College | D2: MacEwan University | E2: Mount Royal University | F2: NAIT | G2: SAIT Polytechnic | H2: University of Alberta | I2: University of Lethbridge | J2: Average
A3: =Data!BC3 -> 1999 2000 | B3: =Data!BD3 -> 0.22382793 | C3: =Data!BE3 -> N/A | D3: =Data!BF3 -> 0.17458815 | E3: =Data!BG3 -> N/A | F3: =Data!BH3 -> 0.18160754 | G3: =Data!BI3 -> 0.23173382 | H3: =Data!BJ3 -> N/A | ... J3: =Data!BL3 -> 0.20293936
A4: =Data!BC4 -> 2000 2001 | B4: =Data!BD4 -> 0.22382793 | C4: =Data!BE4 -> N/A | D4: =Data!BF4 -> 0.16456584 | E4: =Data!BG4 -> 0.31860037 | F4: =Data!BH4 -> 0.17955142 | G4: =Data!BI4 -> 0.22187495 | H4: =Data!BJ4 -> N/A | ... J4: =Data!BL4 -> 0.2216841
A5: =Data!BC5 -> 2001 2002 | B5: =Data!BD5 -> 0.24327346 | C5: =Data!BE5 -> N/A | D5: =Data!BF5 -> 0.15413259 | E5: =Data!BG5 -> 0.28137652 | F5: =Data!BH5 -> 0.2056285 | G5: =Data!BI5 -> 0.26482997 | H5: =Data!BJ5 -> N/A | ... J5: =Data!BL5 -> 0.22984821
A6: =Data!BC6 -> 2002 2003 | B6: =Data!BD6 -> N/A | C6: =Data!BE6 -> N/A | D6: =Data!BF6 -> 0.16976482 | E6: =Data!BG6 -> 0.26285011 | F6: =Data!BH6 -> 0.19922735 | G6: =Data!BI6 -> 0.28645459 | H6: =Data!BJ6 -> N/A | ... J6: =Data!BL6 -> 0.22957422
A7: =Data!BC7 -> 2003 2004 | B7: =Data!BD7 -> 0.20765327 | C7: =Data!BE7 -> N/A | D7: =Data!BF7 -> 0.16456609 | E7: =Data!BG7 -> 0.24861718 | F7: =Data!BH7 -> 0.1961139 | G7: =Data!BI7 -> 0.30743543 | H7: =Data!BJ7 -> N/A | ... J7: =Data!BL7 -> 0.22487717
A8: =Data!BC8 -> 2004 2005 | B8: =Data!BD8 -> 0.20931869 | C8: =Data!BE8 -> N/A | D8: =Data!BF8 -> 0.30963753 | E8: =Data!BG8 -> 0.24213212 | F8: =Data!BH8 -> 0.18827961 | G8: =Data!BI8 -> 0.36387509 | H8: =Data!BJ8 -> N/A | ... J8: =Data!BL8 -> 0.26264861
A9: =Data!BC9 -> 2005 2006 | B9: =Data!BD9 -> 0.20651572 | C9: =Data!BE9 -> N/A | D9: =Data!BF9 -> 0.28082987 | E9: =Data!BG9 -> N/A | F9: =Data!BH9 -> 0.17809758 | G9: =Data!BI9 -> 0.43232499 | H9: =Data!BJ9 -> N/A | ... J9: =Data!BL9 -> 0.27444204
A10: =Data!BC10 -> 2006 2007 | B10: =Data!BD10 -> 0.20328201 | C10: =Data!BE10 -> N/A | D10: =Data!BF10 -> 0.34191412 | E10: =Data!BG10 -> 0.21100312 | F10: =Data!BH10 -> 0.2196762 | G10: =Data!BI10 -> 0.29916138 | H10: =Data!BJ10 -> N/A | ... J10: =Data!BL10 -> 0.25500737
A11: =Data!BC11 -> 2007 2008 | B11: =Data!BD11 -> 0.19885264 | C11: =Data!BE11 -> N/A | D11: =Data!BF11 -> 0.39753911 | E11: =Data!BG11 -> 0.19678601 | F11: =Data!BH11 -> 0.25262968 | G11: =Data!BI11 -> 0.24724738 | H11: =Data!BJ11 -> N/A | ... J11: =Data!BL11 -> 0.25861096
A12: =Data!BC12 -> 2008 2009 | B12: =Data!BD12 -> 0.19790098 | C12: =Data!BE12 -> 0.15435275 | D12: =Data!BF12 -> 0.38648019 | E12: =Data!BG12 -> 0.22854984 | F12: =Data!BH12 -> 0.28744037 | G12: =Data!BI12 -> 0.28554989 | H12: =Data!BJ12 -> N/A | ... J12: =Data!BL12 -> 0.25671234
A13: =Data!BC13 -> 2009 2010 | B13: =Data!BD13 -> 0.15443724 | C13: =Data!BE13 -> 0.19816142 | D13: =Data!BF13 -> 0.37575469 | E13: =Data!BG13 -> 0.24295209 | F13: =Data!BH13 -> 0.3033888 | G13: =Data!BI13 -> 0.26870063 | H13: =Data!BJ13 -> N/A | ... J13: =Data!BL13 -> 0.25723248
A14: =Data!BC14 -> 2010 2011 | B14: =Data!BD14 -> 0.18328178 | C14: =Data!BE14 -> 0.1944257 | D14: =Data!BF14 -> 0.33048555 | E14: =Data!BG14 -> N/A | F14: =Data!BH14 -> 0.28142994 | G14: =Data!BI14 -> 0.2731835 | H14: =Data!BJ14 -> N/A | ... J14: =Data!BL14 -> 0.25256129
... A18: =Data!BC18 -> 2014 2015 | B18: =Data!BD18 -> 0.23710339 | C18: =Data!BE18 -> 0.22071777 | D18: =Data!BF18 -> 0.30745308 | E18: =Data!BG18 -> N/A | F18: =Data!BH18 -> 0.28254997 | G18: =Data!BI18 -> 0.28109467 | H18: =Data!BJ18 -> 0.48574815 | ... J18: =Data!BL18 -> 0.31544623
