Workbook

Sheet Data
A1: F.10 FLE Students Per Library Staff
B2: ACAD | C2: Ambrose University | D2: BCIT | E2: Bow Valley College | F2: Burman University | G2: Concordia University College | H2: Grand Prairie Regional College | I2: Keyano College | J2: King's University | K2: Lakeland College | L2: MacEwan University | M2: Medicine Hat College | N2: Mount Royal University | O2: NAIT | P2: Norquest College | Q2: Northern Lakes College | R2: Olds College | S2: Paul D. Fleck Library & Archives, The Banff Centre | T2: Portage College | U2: Red Deer College | V2: Saint Mary's University College | W2: SAIT Polytechnic | X2: University of Alberta | Y2: University of Lethbridge | Z2: Vanguard College (Northwest Bible) | AA2: Average | AC2: FLE Below 1001 | AD2: =B2 -> ACAD | AE2: =C2 -> Ambrose University | AF2: =F2 -> Burman University | AG2: =J2 -> King's University | AH2: =S2 -> Paul D. Fleck Library & Archives, The Banff Centre | AI2: =T2 -> Portage College | AJ2: =V2 -> Saint Mary's University College | AK2: =Z2 -> Vanguard College (Northwest Bible) | AL2: Average | AN2: FLE 1001-2000 | AO2: =G2 -> Concordia University College | AP2: =H2 -> Grand Prairie Regional College | AQ2: =I2 -> Keyano College | AR2: =Q2 -> Northern Lakes College | AS2: =R2 -> Olds College | AT2: Average | AV2: FLE 2001-5000 | AW2: =K2 -> Lakeland College | AX2: =M2 -> Medicine Hat College | AY2: =P2 -> Norquest College | AZ2: =U2 -> Red Deer College | BA2: Average | BC2: FLE Above 5000 | BD2: =D2 -> BCIT | BE2: =E2 -> Bow Valley College | BF2: =L2 -> MacEwan University | BG2: =N2 -> Mount Royal University | BH2: =O2 -> NAIT | BI2: =W2 -> SAIT Polytechnic | BJ2: =X2 -> University of Alberta | BK2: =Y2 -> University of Lethbridge | BL2: Average
A3: 1999 2000 | B3: 117.14286 | C3: N/A | D3: 279.61559 | E3: N/A | F3: 65.709091 | G3: N/A | H3: 87.109827 | I3: 138.9 | J3: 75.513428 | K3: N/A | L3: 175.07973 | M3: 147.79874 | N3: N/A | O3: 485.98174 | P3: 291.81034 | Q3: 246 | R3: N/A | S3: N/A | T3: 184 | U3: N/A | V3: N/A | W3: 590 | X3: N/A | Y3: N/A | Z3: N/A | AA3: =AVERAGE(B3:Z3) -> 221.89703 | AC3: 1999 2000 | AD3: =B3 -> 117.14286 | AE3: =C3 -> N/A | AF3: =F3 -> 65.709091 | AG3: =J3 -> 75.513428 | AH3: =S3 -> N/A | AI3: =T3 -> 184 | AJ3: =V3 -> N/A | AK3: =Z3 -> N/A | AL3: =AVERAGE(AD3:AK3) -> 110.59134 | AN3: 1999 2000 | AO3: =G3 -> N/A | AP3: =H3 -> 87.109827 | AQ3: =I3 -> 138.9 | AR3: =Q3 -> 246 | AS3: =R3 -> N/A | AT3: =AVERAGE(AO3:AS3) -> 157.33661 | AV3: 1999 2000 | AW3: =K3 -> N/A | AX3: =M3 -> 147.79874 | AY3: =P3 -> 291.81034 | AZ3: =U3 -> N/A | BA3: =AVERAGE(AW3:AZ3) -> 219.80454 | BC3: 1999 2000 | BD3: =D3 -> 279.61559 | BE3: =E3 -> N/A | BF3: =L3 -> 175.07973 | BG3: =N3 -> N/A | BH3: =O3 -> 485.98174 | BI3: =W3 -> 590 | BJ3: =X3 -> N/A | BK3: =Y3 -> N/A | BL3: =AVERAGE(BD3:BK3) -> 382.66926
A4: 2000 2001 | B4: 105.875 | C4: 38.490566 | D4: 279.61559 | E4: N/A | F4: 71.929825 | G4: N/A | H4: 88.218391 | I4: 120.5 | J4: 78.041074 | K4: 65.008706 | L4: 180.11086 | M4: 154.32099 | N4: 149.34091 | O4: 498.63014 | P4: 316.92308 | Q4: 204.66667 | R4: N/A | S4: N/A | T4: 156.66667 | U4: 192.97297 | V4: N/A | W4: 600.95506 | X4: N/A | Y4: N/A | Z4: N/A | AA4: =AVERAGE(B4:Z4) -> 194.25097 | AC4: 2000 2001 | AD4: =B4 -> 105.875 | AE4: =C4 -> 38.490566 | AF4: =F4 -> 71.929825 | AG4: =J4 -> 78.041074 | AH4: =S4 -> N/A | AI4: =T4 -> 156.66667 | AJ4: =V4 -> N/A | AK4: =Z4 -> N/A | AL4: =AVERAGE(AD4:AK4) -> 90.200626 | AN4: 2000 2001 | AO4: =G4 -> N/A | AP4: =H4 -> 88.218391 | AQ4: =I4 -> 120.5 | AR4: =Q4 -> 204.66667 | AS4: =R4 -> N/A | AT4: =AVERAGE(AO4:AS4) -> 137.79502 | AV4: 2000 2001 | AW4: =K4 -> 65.008706 | AX4: =M4 -> 154.32099 | AY4: =P4 -> 316.92308 | AZ4: =U4 -> 192.97297 | BA4: =AVERAGE(AW4:AZ4) -> 182.30644 | BC4: 2000 2001 | BD4: =D4 -> 279.61559 | BE4: =E4 -> N/A | BF4: =L4 -> 180.11086 | BG4: =N4 -> 149.34091 | BH4: =O4 -> 498.63014 | BI4: =W4 -> 600.95506 | BJ4: =X4 -> N/A | BK4: =Y4 -> N/A | BL4: =AVERAGE(BD4:BK4) -> 341.73051
A5: 2001 2002 | B5: 123.74971 | C5: 48.301887 | D5: 303.41146 | E5: N/A | F5: 79.814815 | G5: N/A | H5: 89.727434 | I5: 140.88889 | J5: 83.886256 | K5: 72.388041 | L5: 178.36032 | M5: 143.2716 | N5: 162.74157 | O5: 501.2844 | P5: 306.25 | Q5: 167 | R5: N/A | S5: N/A | T5: 173.33333 | U5: 238.79599 | V5: N/A | W5: 602.35955 | X5: N/A | Y5: N/A | Z5: N/A | AA5: =AVERAGE(B5:Z5) -> 200.9156 | AC5: 2001 2002 | AD5: =B5 -> 123.74971 | AE5: =C5 -> 48.301887 | AF5: =F5 -> 79.814815 | AG5: =J5 -> 83.886256 | AH5: =S5 -> N/A | AI5: =T5 -> 173.33333 | AJ5: =V5 -> N/A | AK5: =Z5 -> N/A | AL5: =AVERAGE(AD5:AK5) -> 101.8172 | AN5: 2001 2002 | AO5: =G5 -> N/A | AP5: =H5 -> 89.727434 | AQ5: =I5 -> 140.88889 | AR5: =Q5 -> 167 | AS5: =R5 -> N/A | AT5: =AVERAGE(AO5:AS5) -> 132.53877 | AV5: 2001 2002 | AW5: =K5 -> 72.388041 | AX5: =M5 -> 143.2716 | AY5: =P5 -> 306.25 | AZ5: =U5 -> 238.79599 | BA5: =AVERAGE(AW5:AZ5) -> 190.17641 | BC5: 2001 2002 | BD5: =D5 -> 303.41146 | BE5: =E5 -> N/A | BF5: =L5 -> 178.36032 | BG5: =N5 -> 162.74157 | BH5: =O5 -> 501.2844 | BI5: =W5 -> 602.35955 | BJ5: =X5 -> N/A | BK5: =Y5 -> N/A | BL5: =AVERAGE(BD5:BK5) -> 349.63146
A6: 2002 2003 | B6: 155.2 | C6: 50.943396 | D6: N/A | E6: N/A | F6: 92.612245 | G6: N/A | H6: 92.477876 | I6: 141.77778 | J6: 94.6875 | K6: 90.232558 | L6: 246.58824 | M6: 143.60248 | N6: 166.5 | O6: 500 | P6: 415.36842 | Q6: 191 | R6: N/A | S6: N/A | T6: 160 | U6: 171.12506 | V6: N/A | W6: 599.52128 | X6: N/A | Y6: N/A | Z6: N/A | AA6: =AVERAGE(B6:Z6) -> 206.9773 | AC6: 2002 2003 | AD6: =B6 -> 155.2 | AE6: =C6 -> 50.943396 | AF6: =F6 -> 92.612245 | AG6: =J6 -> 94.6875 | AH6: =S6 -> N/A | AI6: =T6 -> 160 | AJ6: =V6 -> N/A | AK6: =Z6 -> N/A | AL6: =AVERAGE(AD6:AK6) -> 110.68863 | AN6: 2002 2003 | AO6: =G6 -> N/A | AP6: =H6 -> 92.477876 | AQ6: =I6 -> 141.77778 | AR6: =Q6 -> 191 | AS6: =R6 -> N/A | AT6: =AVERAGE(AO6:AS6) -> 141.75188 | AV6: 2002 2003 | AW6: =K6 -> 90.232558 | AX6: =M6 -> 143.60248 | AY6: =P6 -> 415.36842 | AZ6: =U6 -> 171.12506 | BA6: =AVERAGE(AW6:AZ6) -> 205.08213 | BC6: 2002 2003 | BD6: =D6 -> N/A | BE6: =E6 -> N/A | BF6: =L6 -> 246.58824 | BG6: =N6 -> 166.5 | BH6: =O6 -> 500 | BI6: =W6 -> 599.52128 | BJ6: =X6 -> N/A | BK6: =Y6 -> N/A | BL6: =AVERAGE(BD6:BK6) -> 378.15238
A7: 2003 2004 | B7: 162.93103 | C7: 49 | D7: 349.09726 | E7: N/A | F7: 88.58 | G7: N/A | H7: 97.304075 | I7: 130.6 | J7: 96.818182 | K7: 248.875 | L7: 241.67053 | M7: 143.89535 | N7: 168.5 | O7: 480.50459 | P7: 427.66667 | Q7: 159.09091 | R7: N/A | S7: N/A | T7: 159.83333 | U7: 151.5819 | V7: N/A | W7: 649.88764 | X7: N/A | Y7: N/A | Z7: N/A | AA7: =AVERAGE(B7:Z7) -> 223.87273 | AC7: 2003 2004 | AD7: =B7 -> 162.93103 | AE7: =C7 -> 49 | AF7: =F7 -> 88.58 | AG7: =J7 -> 96.818182 | AH7: =S7 -> N/A | AI7: =T7 -> 159.83333 | AJ7: =V7 -> N/A | AK7: =Z7 -> N/A | AL7: =AVERAGE(AD7:AK7) -> 111.43251 | AN7: 2003 2004 | AO7: =G7 -> N/A | AP7: =H7 -> 97.304075 | AQ7: =I7 -> 130.6 | AR7: =Q7 -> 159.09091 | AS7: =R7 -> N/A | AT7: =AVERAGE(AO7:AS7) -> 128.99833 | AV7: 2003 2004 | AW7: =K7 -> 248.875 | AX7: =M7 -> 143.89535 | AY7: =P7 -> 427.66667 | AZ7: =U7 -> 151.5819 | BA7: =AVERAGE(AW7:AZ7) -> 243.00473 | BC7: 2003 2004 | BD7: =D7 -> 349.09726 | BE7: =E7 -> N/A | BF7: =L7 -> 241.67053 | BG7: =N7 -> 168.5 | BH7: =O7 -> 480.50459 | BI7: =W7 -> 649.88764 | BJ7: =X7 -> N/A | BK7: =Y7 -> N/A | BL7: =AVERAGE(BD7:BK7) -> 377.932
A8: 2004 2005 | B8: 148.88889 | C8: 85.614035 | D8: 350.23991 | E8: N/A | F8: 87.115789 | G8: N/A | H8: 81.670616 | I8: N/A | J8: 93.787879 | K8: 228.55556 | L8: 240.87356 | M8: 137.97753 | N8: 168.96774 | O8: 397.69585 | P8: 426.94737 | Q8: 137.63636 | R8: N/A | S8: N/A | T8: 174.83333 | U8: 162.75724 | V8: N/A | W8: 589.94898 | X8: N/A | Y8: N/A | Z8: N/A | AA8: =AVERAGE(B8:Z8) -> 219.59441 | AC8: 2004 2005 | AD8: =B8 -> 148.88889 | AE8: =C8 -> 85.614035 | AF8: =F8 -> 87.115789 | AG8: =J8 -> 93.787879 | AH8: =S8 -> N/A | AI8: =T8 -> 174.83333 | AJ8: =V8 -> N/A | AK8: =Z8 -> N/A | AL8: =AVERAGE(AD8:AK8) -> 118.04799 | AN8: 2004 2005 | AO8: =G8 -> N/A | AP8: =H8 -> 81.670616 | AQ8: =I8 -> N/A | AR8: =Q8 -> 137.63636 | AS8: =R8 -> N/A | AT8: =AVERAGE(AO8:AS8) -> 109.65349 | AV8: 2004 2005 | AW8: =K8 -> 228.55556 | AX8: =M8 -> 137.97753 | AY8: =P8 -> 426.94737 | AZ8: =U8 -> 162.75724 | BA8: =AVERAGE(AW8:AZ8) -> 239.05942 | BC8: 2004 2005 | BD8: =D8 -> 350.23991 | BE8: =E8 -> N/A | BF8: =L8 -> 240.87356 | BG8: =N8 -> 168.96774 | BH8: =O8 -> 397.69585 | BI8: =W8 -> 589.94898 | BJ8: =X8 -> N/A | BK8: =Y8 -> N/A | BL8: =AVERAGE(BD8:BK8) -> 349.54521
A9: 2005 2006 | B9: 145.07831 | C9: 78.245614 | D9: 488.0866 | E9: N/A | F9: 74.479167 | G9: N/A | H9: 75.494071 | I9: N/A | J9: 77.462687 | K9: 242.25 | L9: 222.09503 | M9: 135.19553 | N9: 170.21277 | O9: 402.79863 | P9: 436.94737 | Q9: 154.36364 | R9: N/A | S9: N/A | T9: 154.66667 | U9: 157.72043 | V9: 32.52 | W9: 568.15534 | X9: N/A | Y9: N/A | Z9: N/A | AA9: =AVERAGE(B9:Z9) -> 212.69246 | AC9: 2005 2006 | AD9: =B9 -> 145.07831 | AE9: =C9 -> 78.245614 | AF9: =F9 -> 74.479167 | AG9: =J9 -> 77.462687 | AH9: =S9 -> N/A | AI9: =T9 -> 154.66667 | AJ9: =V9 -> 32.52 | AK9: =Z9 -> N/A | AL9: =AVERAGE(AD9:AK9) -> 93.742074 | AN9: 2005 2006 | AO9: =G9 -> N/A | AP9: =H9 -> 75.494071 | AQ9: =I9 -> N/A | AR9: =Q9 -> 154.36364 | AS9: =R9 -> N/A | AT9: =AVERAGE(AO9:AS9) -> 114.92885 | AV9: 2005 2006 | AW9: =K9 -> 242.25 | AX9: =M9 -> 135.19553 | AY9: =P9 -> 436.94737 | AZ9: =U9 -> 157.72043 | BA9: =AVERAGE(AW9:AZ9) -> 243.02833 | BC9: 2005 2006 | BD9: =D9 -> 488.0866 | BE9: =E9 -> N/A | BF9: =L9 -> 222.09503 | BG9: =N9 -> 170.21277 | BH9: =O9 -> 402.79863 | BI9: =W9 -> 568.15534 | BJ9: =X9 -> N/A | BK9: =Y9 -> N/A | BL9: =AVERAGE(BD9:BK9) -> 370.26968
A10: 2006 2007 | B10: 148.09231 | C10: 74.736842 | D10: 532.83833 | E10: N/A | F10: 65.479167 | G10: 110.07692 | H10: 63.755702 | I10: N/A | J10: 69.701493 | K10: 197.55556 | L10: 208.00805 | M10: 131.55556 | N10: 138.83333 | O10: 411.87919 | P10: 423.47368 | Q10: 141.27273 | R10: N/A | S10: N/A | T10: 146.26866 | U10: 193.53723 | V10: 34.74 | W10: 615 | X10: N/A | Y10: N/A | Z10: N/A | AA10: =AVERAGE(B10:Z10) -> 205.9336 | AC10: 2006 2007 | AD10: =B10 -> 148.09231 | AE10: =C10 -> 74.736842 | AF10: =F10 -> 65.479167 | AG10: =J10 -> 69.701493 | AH10: =S10 -> N/A | AI10: =T10 -> 146.26866 | AJ10: =V10 -> 34.74 | AK10: =Z10 -> N/A | AL10: =AVERAGE(AD10:AK10) -> 89.836411 | AN10: 2006 2007 | AO10: =G10 -> 110.07692 | AP10: =H10 -> 63.755702 | AQ10: =I10 -> N/A | AR10: =Q10 -> 141.27273 | AS10: =R10 -> N/A | AT10: =AVERAGE(AO10:AS10) -> 105.03512 | AV10: 2006 2007 | AW10: =K10 -> 197.55556 | AX10: =M10 -> 131.55556 | AY10: =P10 -> 423.47368 | AZ10: =U10 -> 193.53723 | BA10: =AVERAGE(AW10:AZ10) -> 236.53051 | BC10: 2006 2007 | BD10: =D10 -> 532.83833 | BE10: =E10 -> N/A | BF10: =L10 -> 208.00805 | BG10: =N10 -> 138.83333 | BH10: =O10 -> 411.87919 | BI10: =W10 -> 615 | BJ10: =X10 -> N/A | BK10: =Y10 -> N/A | BL10: =AVERAGE(BD10:BK10) -> 381.31178
A11: 2007 2008 | B11: 149.52308 | C11: 75.090909 | D11: 521.18989 | E11: N/A | F11: 59.791667 | G11: 112.5 | H11: 76.473105 | I11: N/A | J11: 84.094488 | K11: 276.75 | L11: 188.21033 | M11: 123.52632 | N11: 141.96364 | O11: 411.80203 | P11: 411.79245 | Q11: 172.2 | R11: N/A | S11: N/A | T11: 135.8209 | U11: 144.6364 | V11: 33.72 | W11: 587.68519 | X11: N/A | Y11: N/A | Z11: N/A | AA11: =AVERAGE(B11:Z11) -> 205.93169 | AC11: 2007 2008 | AD11: =B11 -> 149.52308 | AE11: =C11 -> 75.090909 | AF11: =F11 -> 59.791667 | AG11: =J11 -> 84.094488 | AH11: =S11 -> N/A | AI11: =T11 -> 135.8209 | AJ11: =V11 -> 33.72 | AK11: =Z11 -> N/A | AL11: =AVERAGE(AD11:AK11) -> 89.673506 | AN11: 2007 2008 | AO11: =G11 -> 112.5 | AP11: =H11 -> 76.473105 | AQ11: =I11 -> N/A | AR11: =Q11 -> 172.2 | AS11: =R11 -> N/A | AT11: =AVERAGE(AO11:AS11) -> 120.39104 | AV11: 2007 2008 | AW11: =K11 -> 276.75 | AX11: =M11 -> 123.52632 | AY11: =P11 -> 411.79245 | AZ11: =U11 -> 144.6364 | BA11: =AVERAGE(AW11:AZ11) -> 239.17629 | BC11: 2007 2008 | BD11: =D11 -> 521.18989 | BE11: =E11 -> N/A | BF11: =L11 -> 188.21033 | BG11: =N11 -> 141.96364 | BH11: =O11 -> 411.80203 | BI11: =W11 -> 587.68519 | BJ11: =X11 -> N/A | BK11: =Y11 -> N/A | BL11: =AVERAGE(BD11:BK11) -> 370.17022
A12: 2008 2009 | B12: 151.38462 | C12: 77.755102 | D12: 543.36859 | E12: 180.95238 | F12: N/A | G12: N/A | H12: 73.492877 | I12: N/A | J12: 73.453997 | K12: 262.375 | L12: 183.66906 | M12: 135.83815 | N12: 147.81308 | O12: 392.31658 | P12: 434.15884 | Q12: N/A | R12: N/A | S12: N/A | T12: 127.20779 | U12: 138.31882 | V12: 34.409091 | W12: 589.53704 | X12: N/A | Y12: N/A | Z12: N/A | AA12: =AVERAGE(B12:Z12) -> 221.62819 | AC12: 2008 2009 | AD12: =B12 -> 151.38462 | AE12: =C12 -> 77.755102 | AF12: =F12 -> N/A | AG12: =J12 -> 73.453997 | AH12: =S12 -> N/A | AI12: =T12 -> 127.20779 | AJ12: =V12 -> 34.409091 | AK12: =Z12 -> N/A | AL12: =AVERAGE(AD12:AK12) -> 92.84212 | AN12: 2008 2009 | AO12: =G12 -> N/A | AP12: =H12 -> 73.492877 | AQ12: =I12 -> N/A | AR12: =Q12 -> N/A | AS12: =R12 -> N/A | AT12: =AVERAGE(AO12:AS12) -> 73.492877 | AV12: 2008 2009 | AW12: =K12 -> 262.375 | AX12: =M12 -> 135.83815 | AY12: =P12 -> 434.15884 | AZ12: =U12 -> 138.31882 | BA12: =AVERAGE(AW12:AZ12) -> 242.6727 | BC12: 2008 2009 | BD12: =D12 -> 543.36859 | BE12: =E12 -> 180.95238 | BF12: =L12 -> 183.66906 | BG12: =N12 -> 147.81308 | BH12: =O12 -> 392.31658 | BI12: =W12 -> 589.53704 | BJ12: =X12 -> N/A | BK12: =Y12 -> N/A | BL12: =AVERAGE(BD12:BK12) -> 339.60946
A13: 2009 2010 | B13: 153.71538 | C13: 97.5 | D13: 591.79441 | E13: 892.8 | F13: N/A | G13: 112.26087 | H13: 115.69272 | I13: N/A | J13: N/A | K13: 268.375 | L13: 196.51489 | M13: 146.6474 | N13: 156.25806 | O13: 503.24427 | P13: 456.01926 | Q13: 211.9128 | R13: N/A | S13: N/A | T13: 164.02985 | U13: 160.77586 | V13: 50.5 | W13: 627.56219 | X13: N/A | Y13: N/A | Z13: N/A | AA13: =AVERAGE(B13:Z13) -> 288.56488 | AC13: 2009 2010 | AD13: =B13 -> 153.71538 | AE13: =C13 -> 97.5 | AF13: =F13 -> N/A | AG13: =J13 -> N/A | AH13: =S13 -> N/A | AI13: =T13 -> 164.02985 | AJ13: =V13 -> 50.5 | AK13: =Z13 -> N/A | AL13: =AVERAGE(AD13:AK13) -> 116.43631 | AN13: 2009 2010 | AO13: =G13 -> 112.26087 | AP13: =H13 -> 115.69272 | AQ13: =I13 -> N/A | AR13: =Q13 -> 211.9128 | AS13: =R13 -> N/A | AT13: =AVERAGE(AO13:AS13) -> 146.62213 | AV13: 2009 2010 | AW13: =K13 -> 268.375 | AX13: =M13 -> 146.6474 | AY13: =P13 -> 456.01926 | AZ13: =U13 -> 160.77586 | BA13: =AVERAGE(AW13:AZ13) -> 257.95438 | BC13: 2009 2010 | BD13: =D13 -> 591.79441 | BE13: =E13 -> 892.8 | BF13: =L13 -> 196.51489 | BG13: =N13 -> 156.25806 | BH13: =O13 -> 503.24427 | BI13: =W13 -> 627.56219 | BJ13: =X13 -> N/A | BK13: =Y13 -> N/A | BL13: =AVERAGE(BD13:BK13) -> 494.69564
A14: 2010 2011 | B14: 154.36154 | C14: 117.44186 | D14: 644.06833 | E14: 898.6 | F14: 29.277214 | G14: 109.74783 | H14: 111.87944 | I14: 145.05495 | J14: N/A | K14: 321.28571 | L14: 197.63912 | M14: 148.94737 | N14: N/A | O14: 509.22902 | P14: 365.85366 | Q14: N/A | R14: N/A | S14: N/A | T14: 218.54305 | U14: 162.18107 | V14: 55.375 | W14: 661.46597 | X14: N/A | Y14: N/A | Z14: N/A | AA14: =AVERAGE(B14:Z14) -> 285.35007 | AC14: 2010 2011 | AD14: =B14 -> 154.36154 | AE14: =C14 -> 117.44186 | AF14: =F14 -> 29.277214 | AG14: =J14 -> N/A | AH14: =S14 -> N/A | AI14: =T14 -> 218.54305 | AJ14: =V14 -> 55.375 | AK14: =Z14 -> N/A | AL14: =AVERAGE(AD14:AK14) -> 114.99973 | AN14: 2010 2011 | AO14: =G14 -> 109.74783 | AP14: =H14 -> 111.87944 | AQ14: =I14 -> 145.05495 | AR14: =Q14 -> N/A | AS14: =R14 -> N/A | AT14: =AVERAGE(AO14:AS14) -> 122.22741 | AV14: 2010 2011 | AW14: =K14 -> 321.28571 | AX14: =M14 -> 148.94737 | AY14: =P14 -> 365.85366 | AZ14: =U14 -> 162.18107 | BA14: =AVERAGE(AW14:AZ14) -> 249.56695 | BC14: 2010 2011 | BD14: =D14 -> 644.06833 | BE14: =E14 -> 898.6 | BF14: =L14 -> 197.63912 | BG14: =N14 -> N/A | BH14: =O14 -> 509.22902 | BI14: =W14 -> 661.46597 | BJ14: =X14 -> N/A | BK14: =Y14 -> N/A | BL14: =AVERAGE(BD14:BK14) -> 582.20049
A15: 2011 2012 | B15: 175.9629 | C15: 117.44186 | D15: 634.22967 | E15: 965 | F15: 96.761905 | G15: 98.08 | H15: 80.375 | I15: 135.84459 | J15: 58.222222 | K15: 316.57143 | L15: 198.06563 | M15: 133.44086 | N15: N/A | O15: 512.85098 | P15: 347.45763 | Q15: 235.75 | R15: N/A | S15: N/A | T15: 209.58333 | U15: 159.96473 | V15: N/A | W15: 689.21466 | X15: N/A | Y15: N/A | Z15: N/A | AA15: =AVERAGE(B15:Z15) -> 286.9343 | AC15: 2011 2012 | AD15: =B15 -> 175.9629 | AE15: =C15 -> 117.44186 | AF15: =F15 -> 96.761905 | AG15: =J15 -> 58.222222 | AH15: =S15 -> N/A | AI15: =T15 -> 209.58333 | AJ15: =V15 -> N/A | AK15: =Z15 -> N/A | AL15: =AVERAGE(AD15:AK15) -> 131.59444 | AN15: 2011 2012 | AO15: =G15 -> 98.08 | AP15: =H15 -> 80.375 | AQ15: =I15 -> 135.84459 | AR15: =Q15 -> 235.75 | AS15: =R15 -> N/A | AT15: =AVERAGE(AO15:AS15) -> 137.5124 | AV15: 2011 2012 | AW15: =K15 -> 316.57143 | AX15: =M15 -> 133.44086 | AY15: =P15 -> 347.45763 | AZ15: =U15 -> 159.96473 | BA15: =AVERAGE(AW15:AZ15) -> 239.35866 | BC15: 2011 2012 | BD15: =D15 -> 634.22967 | BE15: =E15 -> 965 | BF15: =L15 -> 198.06563 | BG15: =N15 -> N/A | BH15: =O15 -> 512.85098 | BI15: =W15 -> 689.21466 | BJ15: =X15 -> N/A | BK15: =Y15 -> N/A | BL15: =AVERAGE(BD15:BK15) -> 599.87219
A16: 2012 2013 | B16: 29.9375 | C16: 131.86047 | D16: 646.40936 | E16: 311.29032 | F16: 85.8 | G16: 92.48 | H16: 94.36715 | I16: 149.70732 | J16: 103.83333 | K16: 316.57143 | L16: 193.11582 | M16: 130.21505 | N16: 147.7 | O16: 516.23529 | P16: 303.125 | Q16: 347.22222 | R16: N/A | S16: N/A | T16: 165.17241 | U16: 175.07915 | V16: 54.66875 | W16: 613.00885 | X16: N/A | Y16: N/A | Z16: 63 | AA16: =AVERAGE(B16:Z16) -> 222.41902 | AC16: 2012 2013 | AD16: =B16 -> 29.9375 | AE16: =C16 -> 131.86047 | AF16: =F16 -> 85.8 | AG16: =J16 -> 103.83333 | AH16: =S16 -> N/A | AI16: =T16 -> 165.17241 | AJ16: =V16 -> 54.66875 | AK16: =Z16 -> 63 | AL16: =AVERAGE(AD16:AK16) -> 90.610352 | AN16: 2012 2013 | AO16: =G16 -> 92.48 | AP16: =H16 -> 94.36715 | AQ16: =I16 -> 149.70732 | AR16: =Q16 -> 347.22222 | AS16: =R16 -> N/A | AT16: =AVERAGE(AO16:AS16) -> 170.94417 | AV16: 2012 2013 | AW16: =K16 -> 316.57143 | AX16: =M16 -> 130.21505 | AY16: =P16 -> 303.125 | AZ16: =U16 -> 175.07915 | BA16: =AVERAGE(AW16:AZ16) -> 231.24766 | BC16: 2012 2013 | BD16: =D16 -> 646.40936 | BE16: =E16 -> 311.29032 | BF16: =L16 -> 193.11582 | BG16: =N16 -> 147.7 | BH16: =O16 -> 516.23529 | BI16: =W16 -> 613.00885 | BJ16: =X16 -> N/A | BK16: =Y16 -> N/A | BL16: =AVERAGE(BD16:BK16) -> 404.62661
A17: 2013 2014 | B17: 178.91473 | C17: 131.86047 | D17: 655.8684 | E17: 394.15385 | F17: 75.892857 | G17: 107.73966 | H17: 107.86732 | I17: 148.8172 | J17: 90.497738 | K17: 527 | L17: 203.36735 | M17: 114.75676 | N17: 173.17431 | O17: 489.37255 | P17: 329.63636 | Q17: 384.11765 | R17: 258.8 | S17: 120.05 | T17: 169.78723 | U17: 177.96524 | V17: 60.6125 | W17: 663.71681 | X17: N/A | Y17: 146.98272 | Z17: 44.9 | AA17: =AVERAGE(B17:Z17) -> 239.82715 | AC17: 2013 2014 | AD17: =B17 -> 178.91473 | AE17: =C17 -> 131.86047 | AF17: =F17 -> 75.892857 | AG17: =J17 -> 90.497738 | AH17: =S17 -> 120.05 | AI17: =T17 -> 169.78723 | AJ17: =V17 -> 60.6125 | AK17: =Z17 -> 44.9 | AL17: =AVERAGE(AD17:AK17) -> 109.06444 | AN17: 2013 2014 | AO17: =G17 -> 107.73966 | AP17: =H17 -> 107.86732 | AQ17: =I17 -> 148.8172 | AR17: =Q17 -> 384.11765 | AS17: =R17 -> 258.8 | AT17: =AVERAGE(AO17:AS17) -> 201.46837 | AV17: 2013 2014 | AW17: =K17 -> 527 | AX17: =M17 -> 114.75676 | AY17: =P17 -> 329.63636 | AZ17: =U17 -> 177.96524 | BA17: =AVERAGE(AW17:AZ17) -> 287.33959 | BC17: 2013 2014 | BD17: =D17 -> 655.8684 | BE17: =E17 -> 394.15385 | BF17: =L17 -> 203.36735 | BG17: =N17 -> 173.17431 | BH17: =O17 -> 489.37255 | BI17: =W17 -> 663.71681 | BJ17: =X17 -> N/A | BK17: =Y17 -> 146.98272 | BL17: =AVERAGE(BD17:BK17) -> 389.51943
A18: 2014 2015 | B18: 177.56286 | C18: 125.53191 | D18: 677.79819 | E18: 453.15385 | F18: 54.133333 | G18: 109.92931 | H18: 106.79825 | I18: 140.86022 | J18: 103.33333 | K18: 370.5 | L18: 235.82726 | M18: 111.47324 | N18: N/A | O18: 478.34615 | P18: 358.34783 | Q18: 392.66667 | R18: 243.7037 | S18: 68.571429 | T18: 172.34043 | U18: N/A | V18: 73.6375 | W18: 770.73171 | X18: 187.77184 | Y18: 147.88449 | Z18: 42.6 | AA18: =AVERAGE(B18:Z18) -> 243.63059 | AC18: 2014 2015 | AD18: =B18 -> 177.56286 | AE18: =C18 -> 125.53191 | AF18: =F18 -> 54.133333 | AG18: =J18 -> 103.33333 | AH18: =S18 -> 68.571429 | AI18: =T18 -> 172.34043 | AJ18: =V18 -> 73.6375 | AK18: =Z18 -> 42.6 | AL18: =AVERAGE(AD18:AK18) -> 102.21385 | AN18: 2014 2015 | AO18: =G18 -> 109.92931 | AP18: =H18 -> 106.79825 | AQ18: =I18 -> 140.86022 | AR18: =Q18 -> 392.66667 | AS18: =R18 -> 243.7037 | AT18: =AVERAGE(AO18:AS18) -> 198.79163 | AV18: 2014 2015 | AW18: =K18 -> 370.5 | AX18: =M18 -> 111.47324 | AY18: =P18 -> 358.34783 | AZ18: =U18 -> N/A | BA18: =AVERAGE(AW18:AZ18) -> 280.10702 | BC18: 2014 2015 | BD18: =D18 -> 677.79819 | BE18: =E18 -> 453.15385 | BF18: =L18 -> 235.82726 | BG18: =N18 -> N/A | BH18: =O18 -> 478.34615 | BI18: =W18 -> 770.73171 | BJ18: =X18 -> 187.77184 | BK18: =Y18 -> 147.88449 | BL18: =AVERAGE(BD18:BK18) -> 421.64478

Sheet Data - All institutions
A1: F.10 FLE Students Per Library Staff
A2: Year/Institution | B2: ACAD | C2: Ambrose University | D2: BCIT | E2: Bow Valley College | F2: Burman University | G2: Concordia University College | H2: Grand Prairie Regional College | I2: Keyano College | J2: King's University | K2: Lakeland College | L2: MacEwan University | M2: Medicine Hat College | N2: Mount Royal University | O2: NAIT | P2: Norquest College | Q2: Northern Lakes College | R2: Olds College | S2: Portage College | T2: Red Deer College | U2: Saint Mary's University College | V2: SAIT Polytechnic | W2: University of Alberta | X2: University of Lethbridge | Y2: Vanguard College (Northwest Bible) | Z2: Average
A3: =Data!A3 -> 1999 2000 | B3: =Data!B3 -> 117.14286 | C3: =Data!C3 -> N/A | D3: =Data!D3 -> 279.61559 | E3: =Data!E3 -> N/A | F3: =Data!F3 -> 65.709091 | G3: =Data!G3 -> N/A | H3: =Data!H3 -> 87.109827 | ... R3: =Data!R3 -> N/A | S3: =Data!T3 -> 184 | T3: =Data!U3 -> N/A | U3: =Data!V3 -> N/A | V3: =Data!W3 -> 590 | W3: =Data!X3 -> N/A | X3: =Data!Y3 -> N/A | Y3: =Data!Z3 -> N/A | Z3: =Data!AA3 -> 221.89703
A4: =Data!A4 -> 2000 2001 | B4: =Data!B4 -> 105.875 | C4: =Data!C4 -> 38.490566 | D4: =Data!D4 -> 279.61559 | E4: =Data!E4 -> N/A | F4: =Data!F4 -> 71.929825 | G4: =Data!G4 -> N/A | H4: =Data!H4 -> 88.218391 | ... R4: =Data!R4 -> N/A | S4: =Data!T4 -> 156.66667 | T4: =Data!U4 -> 192.97297 | U4: =Data!V4 -> N/A | V4: =Data!W4 -> 600.95506 | W4: =Data!X4 -> N/A | X4: =Data!Y4 -> N/A | Y4: =Data!Z4 -> N/A | Z4: =Data!AA4 -> 194.25097
A5: =Data!A5 -> 2001 2002 | B5: =Data!B5 -> 123.74971 | C5: =Data!C5 -> 48.301887 | D5: =Data!D5 -> 303.41146 | E5: =Data!E5 -> N/A | F5: =Data!F5 -> 79.814815 | G5: =Data!G5 -> N/A | H5: =Data!H5 -> 89.727434 | ... R5: =Data!R5 -> N/A | S5: =Data!T5 -> 173.33333 | T5: =Data!U5 -> 238.79599 | U5: =Data!V5 -> N/A | V5: =Data!W5 -> 602.35955 | W5: =Data!X5 -> N/A | X5: =Data!Y5 -> N/A | Y5: =Data!Z5 -> N/A | Z5: =Data!AA5 -> 200.9156
A6: =Data!A6 -> 2002 2003 | B6: =Data!B6 -> 155.2 | C6: =Data!C6 -> 50.943396 | D6: =Data!D6 -> N/A | E6: =Data!E6 -> N/A | F6: =Data!F6 -> 92.612245 | G6: =Data!G6 -> N/A | H6: =Data!H6 -> 92.477876 | ... R6: =Data!R6 -> N/A | S6: =Data!T6 -> 160 | T6: =Data!U6 -> 171.12506 | U6: =Data!V6 -> N/A | V6: =Data!W6 -> 599.52128 | W6: =Data!X6 -> N/A | X6: =Data!Y6 -> N/A | Y6: =Data!Z6 -> N/A | Z6: =Data!AA6 -> 206.9773
A7: =Data!A7 -> 2003 2004 | B7: =Data!B7 -> 162.93103 | C7: =Data!C7 -> 49 | D7: =Data!D7 -> 349.09726 | E7: =Data!E7 -> N/A | F7: =Data!F7 -> 88.58 | G7: =Data!G7 -> N/A | H7: =Data!H7 -> 97.304075 | ... R7: =Data!R7 -> N/A | S7: =Data!T7 -> 159.83333 | T7: =Data!U7 -> 151.5819 | U7: =Data!V7 -> N/A | V7: =Data!W7 -> 649.88764 | W7: =Data!X7 -> N/A | X7: =Data!Y7 -> N/A | Y7: =Data!Z7 -> N/A | Z7: =Data!AA7 -> 223.87273
A8: =Data!A8 -> 2004 2005 | B8: =Data!B8 -> 148.88889 | C8: =Data!C8 -> 85.614035 | D8: =Data!D8 -> 350.23991 | E8: =Data!E8 -> N/A | F8: =Data!F8 -> 87.115789 | G8: =Data!G8 -> N/A | H8: =Data!H8 -> 81.670616 | ... R8: =Data!R8 -> N/A | S8: =Data!T8 -> 174.83333 | T8: =Data!U8 -> 162.75724 | U8: =Data!V8 -> N/A | V8: =Data!W8 -> 589.94898 | W8: =Data!X8 -> N/A | X8: =Data!Y8 -> N/A | Y8: =Data!Z8 -> N/A | Z8: =Data!AA8 -> 219.59441
A9: =Data!A9 -> 2005 2006 | B9: =Data!B9 -> 145.07831 | C9: =Data!C9 -> 78.245614 | D9: =Data!D9 -> 488.0866 | E9: =Data!E9 -> N/A | F9: =Data!F9 -> 74.479167 | G9: =Data!G9 -> N/A | H9: =Data!H9 -> 75.494071 | ... R9: =Data!R9 -> N/A | S9: =Data!T9 -> 154.66667 | T9: =Data!U9 -> 157.72043 | U9: =Data!V9 -> 32.52 | V9: =Data!W9 -> 568.15534 | W9: =Data!X9 -> N/A | X9: =Data!Y9 -> N/A | Y9: =Data!Z9 -> N/A | Z9: =Data!AA9 -> 212.69246
A10: =Data!A10 -> 2006 2007 | B10: =Data!B10 -> 148.09231 | C10: =Data!C10 -> 74.736842 | D10: =Data!D10 -> 532.83833 | E10: =Data!E10 -> N/A | F10: =Data!F10 -> 65.479167 | G10: =Data!G10 -> 110.07692 | H10: =Data!H10 -> 63.755702 | ... R10: =Data!R10 -> N/A | S10: =Data!T10 -> 146.26866 | T10: =Data!U10 -> 193.53723 | U10: =Data!V10 -> 34.74 | V10: =Data!W10 -> 615 | W10: =Data!X10 -> N/A | X10: =Data!Y10 -> N/A | Y10: =Data!Z10 -> N/A | Z10: =Data!AA10 -> 205.9336
A11: =Data!A11 -> 2007 2008 | B11: =Data!B11 -> 149.52308 | C11: =Data!C11 -> 75.090909 | D11: =Data!D11 -> 521.18989 | E11: =Data!E11 -> N/A | F11: =Data!F11 -> 59.791667 | G11: =Data!G11 -> 112.5 | H11: =Data!H11 -> 76.473105 | ... R11: =Data!R11 -> N/A | S11: =Data!T11 -> 135.8209 | T11: =Data!U11 -> 144.6364 | U11: =Data!V11 -> 33.72 | V11: =Data!W11 -> 587.68519 | W11: =Data!X11 -> N/A | X11: =Data!Y11 -> N/A | Y11: =Data!Z11 -> N/A | Z11: =Data!AA11 -> 205.93169
A12: =Data!A12 -> 2008 2009 | B12: =Data!B12 -> 151.38462 | C12: =Data!C12 -> 77.755102 | D12: =Data!D12 -> 543.36859 | E12: =Data!E12 -> 180.95238 | F12: =Data!F12 -> N/A | G12: =Data!G12 -> N/A | H12: =Data!H12 -> 73.492877 | ... R12: =Data!R12 -> N/A | S12: =Data!T12 -> 127.20779 | T12: =Data!U12 -> 138.31882 | U12: =Data!V12 -> 34.409091 | V12: =Data!W12 -> 589.53704 | W12: =Data!X12 -> N/A | X12: =Data!Y12 -> N/A | Y12: =Data!Z12 -> N/A | Z12: =Data!AA12 -> 221.62819
A13: =Data!A13 -> 2009 2010 | B13: =Data!B13 -> 153.71538 | C13: =Data!C13 -> 97.5 | D13: =Data!D13 -> 591.79441 | E13: =Data!E13 -> 892.8 | F13: =Data!F13 -> N/A | G13: =Data!G13 -> 112.26087 | H13: =Data!H13 -> 115.69272 | ... R13: =Data!R13 -> N/A | S13: =Data!T13 -> 164.02985 | T13: =Data!U13 -> 160.77586 | U13: =Data!V13 -> 50.5 | V13: =Data!W13 -> 627.56219 | W13: =Data!X13 -> N/A | X13: =Data!Y13 -> N/A | Y13: =Data!Z13 -> N/A | Z13: =Data!AA13 -> 288.56488
A14: =Data!A14 -> 2010 2011 | B14: =Data!B14 -> 154.36154 | C14: =Data!C14 -> 117.44186 | D14: =Data!D14 -> 644.06833 | E14: =Data!E14 -> 898.6 | F14: =Data!F14 -> 29.277214 | G14: =Data!G14 -> 109.74783 | H14: =Data!H14 -> 111.87944 | ... R14: =Data!R14 -> N/A | S14: =Data!T14 -> 218.54305 | T14: =Data!U14 -> 162.18107 | U14: =Data!V14 -> 55.375 | V14: =Data!W14 -> 661.46597 | W14: =Data!X14 -> N/A | X14: =Data!Y14 -> N/A | Y14: =Data!Z14 -> N/A | Z14: =Data!AA14 -> 285.35007
... A18: =Data!A18 -> 2014 2015 | B18: =Data!B18 -> 177.56286 | C18: =Data!C18 -> 125.53191 | D18: =Data!D18 -> 677.79819 | E18: =Data!E18 -> 453.15385 | F18: =Data!F18 -> 54.133333 | G18: =Data!G18 -> 109.92931 | H18: =Data!H18 -> 106.79825 | ... R18: =Data!R18 -> 243.7037 | S18: =Data!T18 -> 172.34043 | T18: =Data!U18 -> N/A | U18: =Data!V18 -> 73.6375 | V18: =Data!W18 -> 770.73171 | W18: =Data!X18 -> 187.77184 | X18: =Data!Y18 -> 147.88449 | Y18: =Data!Z18 -> 42.6 | Z18: =Data!AA18 -> 243.63059

Sheet Data - FLE Below 1001
A1: F.10 FLE Students Per Library Staff - FLE Below 1001
A2: Year/Institution | B2: ACAD | C2: Ambrose University | D2: Burman University | E2: King's University | F2: Portage College | G2: Saint Mary's University College | H2: Vanguard College (Northwest Bible) | I2: Average
A3: =Data!AC3 -> 1999 2000 | B3: =Data!AD3 -> 117.14286 | C3: =Data!AE3 -> N/A | D3: =Data!AF3 -> 65.709091 | E3: =Data!AG3 -> 75.513428 | F3: =Data!AI3 -> 184 | G3: =Data!AJ3 -> N/A | H3: =Data!AK3 -> N/A | I3: =Data!AL3 -> 110.59134
A4: =Data!AC4 -> 2000 2001 | B4: =Data!AD4 -> 105.875 | C4: =Data!AE4 -> 38.490566 | D4: =Data!AF4 -> 71.929825 | E4: =Data!AG4 -> 78.041074 | F4: =Data!AI4 -> 156.66667 | G4: =Data!AJ4 -> N/A | H4: =Data!AK4 -> N/A | I4: =Data!AL4 -> 90.200626
A5: =Data!AC5 -> 2001 2002 | B5: =Data!AD5 -> 123.74971 | C5: =Data!AE5 -> 48.301887 | D5: =Data!AF5 -> 79.814815 | E5: =Data!AG5 -> 83.886256 | F5: =Data!AI5 -> 173.33333 | G5: =Data!AJ5 -> N/A | H5: =Data!AK5 -> N/A | I5: =Data!AL5 -> 101.8172
A6: =Data!AC6 -> 2002 2003 | B6: =Data!AD6 -> 155.2 | C6: =Data!AE6 -> 50.943396 | D6: =Data!AF6 -> 92.612245 | E6: =Data!AG6 -> 94.6875 | F6: =Data!AI6 -> 160 | G6: =Data!AJ6 -> N/A | H6: =Data!AK6 -> N/A | I6: =Data!AL6 -> 110.68863
A7: =Data!AC7 -> 2003 2004 | B7: =Data!AD7 -> 162.93103 | C7: =Data!AE7 -> 49 | D7: =Data!AF7 -> 88.58 | E7: =Data!AG7 -> 96.818182 | F7: =Data!AI7 -> 159.83333 | G7: =Data!AJ7 -> N/A | H7: =Data!AK7 -> N/A | I7: =Data!AL7 -> 111.43251
A8: =Data!AC8 -> 2004 2005 | B8: =Data!AD8 -> 148.88889 | C8: =Data!AE8 -> 85.614035 | D8: =Data!AF8 -> 87.115789 | E8: =Data!AG8 -> 93.787879 | F8: =Data!AI8 -> 174.83333 | G8: =Data!AJ8 -> N/A | H8: =Data!AK8 -> N/A | I8: =Data!AL8 -> 118.04799
A9: =Data!AC9 -> 2005 2006 | B9: =Data!AD9 -> 145.07831 | C9: =Data!AE9 -> 78.245614 | D9: =Data!AF9 -> 74.479167 | E9: =Data!AG9 -> 77.462687 | F9: =Data!AI9 -> 154.66667 | G9: =Data!AJ9 -> 32.52 | H9: =Data!AK9 -> N/A | I9: =Data!AL9 -> 93.742074
A10: =Data!AC10 -> 2006 2007 | B10: =Data!AD10 -> 148.09231 | C10: =Data!AE10 -> 74.736842 | D10: =Data!AF10 -> 65.479167 | E10: =Data!AG10 -> 69.701493 | F10: =Data!AI10 -> 146.26866 | G10: =Data!AJ10 -> 34.74 | H10: =Data!AK10 -> N/A | I10: =Data!AL10 -> 89.836411
A11: =Data!AC11 -> 2007 2008 | B11: =Data!AD11 -> 149.52308 | C11: =Data!AE11 -> 75.090909 | D11: =Data!AF11 -> 59.791667 | E11: =Data!AG11 -> 84.094488 | F11: =Data!AI11 -> 135.8209 | G11: =Data!AJ11 -> 33.72 | H11: =Data!AK11 -> N/A | I11: =Data!AL11 -> 89.673506
A12: =Data!AC12 -> 2008 2009 | B12: =Data!AD12 -> 151.38462 | C12: =Data!AE12 -> 77.755102 | D12: =Data!AF12 -> N/A | E12: =Data!AG12 -> 73.453997 | F12: =Data!AI12 -> 127.20779 | G12: =Data!AJ12 -> 34.409091 | H12: =Data!AK12 -> N/A | I12: =Data!AL12 -> 92.84212
A13: =Data!AC13 -> 2009 2010 | B13: =Data!AD13 -> 153.71538 | C13: =Data!AE13 -> 97.5 | D13: =Data!AF13 -> N/A | E13: =Data!AG13 -> N/A | F13: =Data!AI13 -> 164.02985 | G13: =Data!AJ13 -> 50.5 | H13: =Data!AK13 -> N/A | I13: =Data!AL13 -> 116.43631
A14: =Data!AC14 -> 2010 2011 | B14: =Data!AD14 -> 154.36154 | C14: =Data!AE14 -> 117.44186 | D14: =Data!AF14 -> 29.277214 | E14: =Data!AG14 -> N/A | F14: =Data!AI14 -> 218.54305 | G14: =Data!AJ14 -> 55.375 | H14: =Data!AK14 -> N/A | I14: =Data!AL14 -> 114.99973
... A18: =Data!AC18 -> 2014 2015 | B18: =Data!AD18 -> 177.56286 | C18: =Data!AE18 -> 125.53191 | D18: =Data!AF18 -> 54.133333 | E18: =Data!AG18 -> 103.33333 | F18: =Data!AI18 -> 172.34043 | G18: =Data!AJ18 -> 73.6375 | H18: =Data!AK18 -> 42.6 | I18: =Data!AL18 -> 102.21385

Sheet Data - FLE 1001 to 2000
A1: F.10 FLE Students Per Library Staff - FLE 1001 to 2000
A2: Year/Institution | B2: Concordia University College | C2: Grand Prairie Regional College | D2: Keyano College | E2: Northern Lakes College | F2: Olds College | G2: Average
A3: =Data!AN3 -> 1999 2000 | B3: =Data!AO3 -> N/A | C3: =Data!AP3 -> 87.109827 | D3: =Data!AQ3 -> 138.9 | E3: =Data!AR3 -> 246 | F3: =Data!AS3 -> N/A | G3: =Data!AT3 -> 157.33661
A4: =Data!AN4 -> 2000 2001 | B4: =Data!AO4 -> N/A | C4: =Data!AP4 -> 88.218391 | D4: =Data!AQ4 -> 120.5 | E4: =Data!AR4 -> 204.66667 | F4: =Data!AS4 -> N/A | G4: =Data!AT4 -> 137.79502
A5: =Data!AN5 -> 2001 2002 | B5: =Data!AO5 -> N/A | C5: =Data!AP5 -> 89.727434 | D5: =Data!AQ5 -> 140.88889 | E5: =Data!AR5 -> 167 | F5: =Data!AS5 -> N/A | G5: =Data!AT5 -> 132.53877
A6: =Data!AN6 -> 2002 2003 | B6: =Data!AO6 -> N/A | C6: =Data!AP6 -> 92.477876 | D6: =Data!AQ6 -> 141.77778 | E6: =Data!AR6 -> 191 | F6: =Data!AS6 -> N/A | G6: =Data!AT6 -> 141.75188
A7: =Data!AN7 -> 2003 2004 | B7: =Data!AO7 -> N/A | C7: =Data!AP7 -> 97.304075 | D7: =Data!AQ7 -> 130.6 | E7: =Data!AR7 -> 159.09091 | F7: =Data!AS7 -> N/A | G7: =Data!AT7 -> 128.99833
A8: =Data!AN8 -> 2004 2005 | B8: =Data!AO8 -> N/A | C8: =Data!AP8 -> 81.670616 | D8: =Data!AQ8 -> N/A | E8: =Data!AR8 -> 137.63636 | F8: =Data!AS8 -> N/A | G8: =Data!AT8 -> 109.65349
A9: =Data!AN9 -> 2005 2006 | B9: =Data!AO9 -> N/A | C9: =Data!AP9 -> 75.494071 | D9: =Data!AQ9 -> N/A | E9: =Data!AR9 -> 154.36364 | F9: =Data!AS9 -> N/A | G9: =Data!AT9 -> 114.92885
A10: =Data!AN10 -> 2006 2007 | B10: =Data!AO10 -> 110.07692 | C10: =Data!AP10 -> 63.755702 | D10: =Data!AQ10 -> N/A | E10: =Data!AR10 -> 141.27273 | F10: =Data!AS10 -> N/A | G10: =Data!AT10 -> 105.03512
A11: =Data!AN11 -> 2007 2008 | B11: =Data!AO11 -> 112.5 | C11: =Data!AP11 -> 76.473105 | D11: =Data!AQ11 -> N/A | E11: =Data!AR11 -> 172.2 | F11: =Data!AS11 -> N/A | G11: =Data!AT11 -> 120.39104
A12: =Data!AN12 -> 2008 2009 | B12: =Data!AO12 -> N/A | C12: =Data!AP12 -> 73.492877 | D12: =Data!AQ12 -> N/A | E12: =Data!AR12 -> N/A | F12: =Data!AS12 -> N/A | G12: =Data!AT12 -> 73.492877
A13: =Data!AN13 -> 2009 2010 | B13: =Data!AO13 -> 112.26087 | C13: =Data!AP13 -> 115.69272 | D13: =Data!AQ13 -> N/A | E13: =Data!AR13 -> 211.9128 | F13: =Data!AS13 -> N/A | G13: =Data!AT13 -> 146.62213
A14: =Data!AN14 -> 2010 2011 | B14: =Data!AO14 -> 109.74783 | C14: =Data!AP14 -> 111.87944 | D14: =Data!AQ14 -> 145.05495 | E14: =Data!AR14 -> N/A | F14: =Data!AS14 -> N/A | G14: =Data!AT14 -> 122.22741
... A18: =Data!AN18 -> 2014 2015 | B18: =Data!AO18 -> 109.92931 | C18: =Data!AP18 -> 106.79825 | D18: =Data!AQ18 -> 140.86022 | E18: =Data!AR18 -> 392.66667 | F18: =Data!AS18 -> 243.7037 | G18: =Data!AT18 -> 198.79163

Sheet Data - FLE 2001 to 5000
A1: F.10 FLE Students Per Library Staff - FLE 2001 to 5000
A2: Year/Institution | B2: Lakeland College | C2: Medicine Hat College | D2: Norquest College | E2: Red Deer College | F2: Average
A3: =Data!AV3 -> 1999 2000 | B3: =Data!AW3 -> N/A | C3: =Data!AX3 -> 147.79874 | D3: =Data!AY3 -> 291.81034 | E3: =Data!AZ3 -> N/A | F3: =Data!BA3 -> 219.80454
A4: =Data!AV4 -> 2000 2001 | B4: =Data!AW4 -> 65.008706 | C4: =Data!AX4 -> 154.32099 | D4: =Data!AY4 -> 316.92308 | E4: =Data!AZ4 -> 192.97297 | F4: =Data!BA4 -> 182.30644
A5: =Data!AV5 -> 2001 2002 | B5: =Data!AW5 -> 72.388041 | C5: =Data!AX5 -> 143.2716 | D5: =Data!AY5 -> 306.25 | E5: =Data!AZ5 -> 238.79599 | F5: =Data!BA5 -> 190.17641
A6: =Data!AV6 -> 2002 2003 | B6: =Data!AW6 -> 90.232558 | C6: =Data!AX6 -> 143.60248 | D6: =Data!AY6 -> 415.36842 | E6: =Data!AZ6 -> 171.12506 | F6: =Data!BA6 -> 205.08213
A7: =Data!AV7 -> 2003 2004 | B7: =Data!AW7 -> 248.875 | C7: =Data!AX7 -> 143.89535 | D7: =Data!AY7 -> 427.66667 | E7: =Data!AZ7 -> 151.5819 | F7: =Data!BA7 -> 243.00473
A8: =Data!AV8 -> 2004 2005 | B8: =Data!AW8 -> 228.55556 | C8: =Data!AX8 -> 137.97753 | D8: =Data!AY8 -> 426.94737 | E8: =Data!AZ8 -> 162.75724 | F8: =Data!BA8 -> 239.05942
A9: =Data!AV9 -> 2005 2006 | B9: =Data!AW9 -> 242.25 | C9: =Data!AX9 -> 135.19553 | D9: =Data!AY9 -> 436.94737 | E9: =Data!AZ9 -> 157.72043 | F9: =Data!BA9 -> 243.02833
A10: =Data!AV10 -> 2006 2007 | B10: =Data!AW10 -> 197.55556 | C10: =Data!AX10 -> 131.55556 | D10: =Data!AY10 -> 423.47368 | E10: =Data!AZ10 -> 193.53723 | F10: =Data!BA10 -> 236.53051
A11: =Data!AV11 -> 2007 2008 | B11: =Data!AW11 -> 276.75 | C11: =Data!AX11 -> 123.52632 | D11: =Data!AY11 -> 411.79245 | E11: =Data!AZ11 -> 144.6364 | F11: =Data!BA11 -> 239.17629
A12: =Data!AV12 -> 2008 2009 | B12: =Data!AW12 -> 262.375 | C12: =Data!AX12 -> 135.83815 | D12: =Data!AY12 -> 434.15884 | E12: =Data!AZ12 -> 138.31882 | F12: =Data!BA12 -> 242.6727
A13: =Data!AV13 -> 2009 2010 | B13: =Data!AW13 -> 268.375 | C13: =Data!AX13 -> 146.6474 | D13: =Data!AY13 -> 456.01926 | E13: =Data!AZ13 -> 160.77586 | F13: =Data!BA13 -> 257.95438
A14: =Data!AV14 -> 2010 2011 | B14: =Data!AW14 -> 321.28571 | C14: =Data!AX14 -> 148.94737 | D14: =Data!AY14 -> 365.85366 | E14: =Data!AZ14 -> 162.18107 | F14: =Data!BA14 -> 249.56695
... A18: =Data!AV18 -> 2014 2015 | B18: =Data!AW18 -> 370.5 | C18: =Data!AX18 -> 111.47324 | D18: =Data!AY18 -> 358.34783 | E18: =Data!AZ18 -> N/A | F18: =Data!BA18 -> 280.10702

Sheet Data - FLE Above 5000
A1: F.10 FLE Students Per Library Staff - FLE Above 5000
A2: Year/Institution | B2: BCIT | C2: Bow Valley College | D2: MacEwan University | E2: Mount Royal University | F2: NAIT | G2: SAIT Polytechnic | H2: University of Lethbridge | I2: Average
A3: =Data!BC3 -> 1999 2000 | B3: =Data!BD3 -> 279.61559 | C3: =Data!BE3 -> N/A | D3: =Data!BF3 -> 175.07973 | E3: =Data!BG3 -> N/A | F3: =Data!BH3 -> 485.98174 | G3: =Data!BI3 -> 590 | H3: =Data!BK3 -> N/A | I3: =Data!BL3 -> 382.66926
A4: =Data!BC4 -> 2000 2001 | B4: =Data!BD4 -> 279.61559 | C4: =Data!BE4 -> N/A | D4: =Data!BF4 -> 180.11086 | E4: =Data!BG4 -> 149.34091 | F4: =Data!BH4 -> 498.63014 | G4: =Data!BI4 -> 600.95506 | H4: =Data!BK4 -> N/A | I4: =Data!BL4 -> 341.73051
A5: =Data!BC5 -> 2001 2002 | B5: =Data!BD5 -> 303.41146 | C5: =Data!BE5 -> N/A | D5: =Data!BF5 -> 178.36032 | E5: =Data!BG5 -> 162.74157 | F5: =Data!BH5 -> 501.2844 | G5: =Data!BI5 -> 602.35955 | H5: =Data!BK5 -> N/A | I5: =Data!BL5 -> 349.63146
A6: =Data!BC6 -> 2002 2003 | B6: =Data!BD6 -> N/A | C6: =Data!BE6 -> N/A | D6: =Data!BF6 -> 246.58824 | E6: =Data!BG6 -> 166.5 | F6: =Data!BH6 -> 500 | G6: =Data!BI6 -> 599.52128 | H6: =Data!BK6 -> N/A | I6: =Data!BL6 -> 378.15238
A7: =Data!BC7 -> 2003 2004 | B7: =Data!BD7 -> 349.09726 | C7: =Data!BE7 -> N/A | D7: =Data!BF7 -> 241.67053 | E7: =Data!BG7 -> 168.5 | F7: =Data!BH7 -> 480.50459 | G7: =Data!BI7 -> 649.88764 | H7: =Data!BK7 -> N/A | I7: =Data!BL7 -> 377.932
A8: =Data!BC8 -> 2004 2005 | B8: =Data!BD8 -> 350.23991 | C8: =Data!BE8 -> N/A | D8: =Data!BF8 -> 240.87356 | E8: =Data!BG8 -> 168.96774 | F8: =Data!BH8 -> 397.69585 | G8: =Data!BI8 -> 589.94898 | H8: =Data!BK8 -> N/A | I8: =Data!BL8 -> 349.54521
A9: =Data!BC9 -> 2005 2006 | B9: =Data!BD9 -> 488.0866 | C9: =Data!BE9 -> N/A | D9: =Data!BF9 -> 222.09503 | E9: =Data!BG9 -> 170.21277 | F9: =Data!BH9 -> 402.79863 | G9: =Data!BI9 -> 568.15534 | H9: =Data!BK9 -> N/A | I9: =Data!BL9 -> 370.26968
A10: =Data!BC10 -> 2006 2007 | B10: =Data!BD10 -> 532.83833 | C10: =Data!BE10 -> N/A | D10: =Data!BF10 -> 208.00805 | E10: =Data!BG10 -> 138.83333 | F10: =Data!BH10 -> 411.87919 | G10: =Data!BI10 -> 615 | H10: =Data!BK10 -> N/A | I10: =Data!BL10 -> 381.31178
A11: =Data!BC11 -> 2007 2008 | B11: =Data!BD11 -> 521.18989 | C11: =Data!BE11 -> N/A | D11: =Data!BF11 -> 188.21033 | E11: =Data!BG11 -> 141.96364 | F11: =Data!BH11 -> 411.80203 | G11: =Data!BI11 -> 587.68519 | H11: =Data!BK11 -> N/A | I11: =Data!BL11 -> 370.17022
A12: =Data!BC12 -> 2008 2009 | B12: =Data!BD12 -> 543.36859 | C12: =Data!BE12 -> 180.95238 | D12: =Data!BF12 -> 183.66906 | E12: =Data!BG12 -> 147.81308 | F12: =Data!BH12 -> 392.31658 | G12: =Data!BI12 -> 589.53704 | H12: =Data!BK12 -> N/A | I12: =Data!BL12 -> 339.60946
A13: =Data!BC13 -> 2009 2010 | B13: =Data!BD13 -> 591.79441 | C13: =Data!BE13 -> 892.8 | D13: =Data!BF13 -> 196.51489 | E13: =Data!BG13 -> 156.25806 | F13: =Data!BH13 -> 503.24427 | G13: =Data!BI13 -> 627.56219 | H13: =Data!BK13 -> N/A | I13: =Data!BL13 -> 494.69564
A14: =Data!BC14 -> 2010 2011 | B14: =Data!BD14 -> 644.06833 | C14: =Data!BE14 -> 898.6 | D14: =Data!BF14 -> 197.63912 | E14: =Data!BG14 -> N/A | F14: =Data!BH14 -> 509.22902 | G14: =Data!BI14 -> 661.46597 | H14: =Data!BK14 -> N/A | I14: =Data!BL14 -> 582.20049
... A18: =Data!BC18 -> 2014 2015 | B18: =Data!BD18 -> 677.79819 | C18: =Data!BE18 -> 453.15385 | D18: =Data!BF18 -> 235.82726 | E18: =Data!BG18 -> N/A | F18: =Data!BH18 -> 478.34615 | G18: =Data!BI18 -> 770.73171 | H18: =Data!BK18 -> 147.88449 | I18: =Data!BL18 -> 421.64478
